BEGIN:VCALENDAR
VERSION:2.0
PRODID:-//ChamberMaster//Event Calendar 2.0//EN
METHOD:PUBLISH
X-PUBLISHED-TTL:P3D
REFRESH-INTERVAL:P3D
CALSCALE:GREGORIAN
BEGIN:VEVENT
DTSTART:20251206T140000Z
DTEND:20251206T200000Z
X-MICROSOFT-CDO-ALLDAYEVENT:FALSE
SUMMARY:HK Craft Fair
DESCRIPTION:The 37th Annual HK Holiday Craft Fair returns with 80 local artists and crafters. Enjoy food trucks\, a raffle with prizes donated by our crafters\, a book fair\, and kids' activities. Free Admission! You'll find the perfect gift right here. Discover something beautiful while supporting local small businesses. Visit our website for more information https://hkyfs.org/hk-craft-fair/
X-ALT-DESC;FMTTYPE=text/html:The 37th Annual HK Holiday Craft Fair returns with 80 local artists and crafters. Enjoy food trucks\, a raffle with prizes donated by our crafters\, a book fair\, and kids&rsquo\; activities. Free Admission! You&rsquo\;ll find the perfect gift right here. Discover something beautiful while supporting local small businesses. Visit our website for more information https://hkyfs.org/hk-craft-fair/
LOCATION:Haddam-Killingworth Middle School
UID:e.1932.34411
SEQUENCE:3
DTSTAMP:20260424T192039Z
URL:https://business.middlesexchamber.com/events/details/hk-craft-fair-34411
END:VEVENT

END:VCALENDAR
