BEGIN:VCALENDAR
VERSION:2.0
PRODID:-//ChamberMaster//Event Calendar 2.0//EN
METHOD:PUBLISH
X-PUBLISHED-TTL:P3D
REFRESH-INTERVAL:P3D
CALSCALE:GREGORIAN
BEGIN:VEVENT
DTSTART:20190714T200000Z
DTEND:20190714T230000Z
X-MICROSOFT-CDO-ALLDAYEVENT:FALSE
SUMMARY:Historic Organ and Vocals Concert by Jeremiah Mead & Paul Thoma
DESCRIPTION:Join us for a concert for a magical performance by historic organ by Juilliard-trained organist\, Jeremiah Mead and vocalist Paul Thoma. \n\n\n\n \n\n\n\nJeremiah Mead is a third year student of Mr. Paul Jacobs in the Bachelor of Music organ program at The Juilliard School. Mead is a native of Madison\, Connecticut\, and studied organ with Dr. Ezequiel Men ndez at the Cathedral of Saint Joseph in Hartford\, Connecticut and Dr. Andrew Kotylo at Trinity Church on the Green in New Haven\, Connecticut. He studied piano with Ms. Victoria Reeve of Guilford\, Connecticut\, and sang for ten years as a member of the Trinity Church Choir of Men and Boys in New Haven\, Connecticut\, under the direction of Mr. Walden Moore.\n\n\n\n \n\n\n\nComplimentary refreshments\n\n\n\n \n\n\n\nAll proceeds will go directly to Preservation 2020 Capital Campaign Fundraisers to restore the historic Congregational church in Killingworth. \n\n\n\n \n\n\n\n$10 Admission 860-663-1789 Rt 81 Killingworth \n\n\n\nDonations Accepted the night of event or anytime at \n\n\n\n \n\n\n\nhttps://www.gofundme.com/preservation-2020?sharetype=teams&member=1573028&rcid=r01-155423343606-fd57b84312c84ad7&pc=ot_co_campmgmt_m
X-ALT-DESC;FMTTYPE=text/html:<div>\n<div><span style="font-family: inherit\;">Join us for a concert for a magical performance by historic organ by Juilliard-trained organist\, Jeremiah Mead and vocalist Paul Thoma. </span></div>\n</div>\n\n<div>\n<div>&nbsp\;</div>\n</div>\n\n<div>\n<div><span style="font-family: inherit\;">Jeremiah Mead is a third year student of Mr. Paul Jacobs in the Bachelor of Music organ program at The Juilliard School. Mead is a native of Madison\, Connecticut\, and studied organ with Dr. Ezequiel Men&eacute\;ndez at the Cathedral of Saint Joseph in Hartford\, Connecticut and Dr. Andrew Kotylo at Trinity Church on the Green in New Haven\, Connecticut. He studied piano with Ms. Victoria Reeve of Guilford\, Connecticut\, and sang for ten years as a member of the Trinity Church Choir of Men and Boys in New Haven\, Connecticut\, under the direction of Mr. Walden Moore.</span></div>\n</div>\n\n<div>\n<div>&nbsp\;</div>\n</div>\n\n<div>\n<div><span style="font-family: inherit\;">Complimentary refreshments</span></div>\n</div>\n\n<div>\n<div>&nbsp\;</div>\n</div>\n\n<div>\n<div><span style="font-family: inherit\;">All proceeds will go directly to Preservation 2020 Capital Campaign Fundraisers to restore the historic Congregational church in Killingworth. </span></div>\n</div>\n\n<div>\n<div>&nbsp\;</div>\n</div>\n\n<div>\n<div><span style="font-family: inherit\;">$10 Admission 860-663-1789 Rt 81 Killingworth </span></div>\n</div>\n\n<div>\n<div><span style="font-family: inherit\;">Donations Accepted the night of event or anytime at </span></div>\n</div>\n\n<div>\n<div>&nbsp\;</div>\n</div>\n\n<div>\n<div><span style="font-family: inherit\;">https://www.gofundme.com/preservation-2020?sharetype=teams&amp\;member=1573028&amp\;rcid=r01-155423343606-fd57b84312c84ad7&amp\;pc=ot_co_campmgmt_m</span></div>\n\n<div>&nbsp\;</div>\n</div>\n\n<div>&nbsp\;</div>\n
LOCATION:The Congregational Church in Killingworth 273 RT 81 Killingworth CT 06419
UID:e.1932.10215
SEQUENCE:3
DTSTAMP:20260421T123904Z
URL:https://business.middlesexchamber.com/events/details/historic-organ-and-vocals-concert-by-jeremiah-mead-paul-thoma-10215
END:VEVENT

END:VCALENDAR
