BEGIN:VCALENDAR
VERSION:2.0
PRODID:-//ChamberMaster//Event Calendar 2.0//EN
METHOD:PUBLISH
X-PUBLISHED-TTL:P3D
REFRESH-INTERVAL:P3D
CALSCALE:GREGORIAN
BEGIN:VEVENT
DTSTART:20201008T123000Z
DTEND:20201008T133000Z
X-MICROSOFT-CDO-ALLDAYEVENT:FALSE
SUMMARY:Health Care Council Steering Committee
DESCRIPTION:
X-ALT-DESC;FMTTYPE=text/html:
LOCATION:Meeting conducted via Zoom.
UID:e.1932.19527
SEQUENCE:3
DTSTAMP:20260421T044746Z
URL:https://business.middlesexchamber.com/events/details/health-care-council-steering-committee-19527
END:VEVENT

END:VCALENDAR
