BEGIN:VCALENDAR
VERSION:2.0
PRODID:-//ChamberMaster//Event Calendar 2.0//EN
METHOD:PUBLISH
X-PUBLISHED-TTL:P3D
REFRESH-INTERVAL:P3D
CALSCALE:GREGORIAN
BEGIN:VEVENT
DTSTART:20230209T133000Z
DTEND:20230209T143000Z
X-MICROSOFT-CDO-ALLDAYEVENT:FALSE
SUMMARY:Health Care Council Steering Committee
DESCRIPTION:The mission of the Chamber's Health Care Council is to maintain a line of communication between the business and health care community\, and to work on projects to improve the health\, healthcare\, and value of health care in the county. The Council\, sponsored by Middlesex Health\, identifies opportunities for the development and implementation of collaborative solutions that strive for an efficient\, high quality and effective health care system.\n\n \n\nThis committee is an open committee! If you would like more information on how you can get involved please contact Johanna Bond.
X-ALT-DESC;FMTTYPE=text/html:The mission of the Chamber&rsquo\;s Health Care Council is to maintain a line of communication between the business and health care community\, and to work on projects to improve the health\, healthcare\, and value of health care in the county. The Council\, sponsored by Middlesex Health\, identifies opportunities for the development and implementation of collaborative solutions that strive for an efficient\, high quality and effective health care system.<br />\n&nbsp\;<br />\nThis committee is an open committee! If you would like more information on how you can get involved please contact Johanna Bond.
LOCATION:Meeting held via Zoom
UID:e.1932.24703
SEQUENCE:3
DTSTAMP:20260420T181912Z
URL:https://business.middlesexchamber.com/events/details/health-care-council-steering-committee-02-09-2023-24703
END:VEVENT

END:VCALENDAR
