BEGIN:VCALENDAR
VERSION:2.0
PRODID:-//ChamberMaster//Event Calendar 2.0//EN
METHOD:PUBLISH
X-PUBLISHED-TTL:P3D
REFRESH-INTERVAL:P3D
CALSCALE:GREGORIAN
BEGIN:VEVENT
DTSTART:20221110T233000Z
DTEND:20221111T003000Z
X-MICROSOFT-CDO-ALLDAYEVENT:FALSE
SUMMARY:Healing Sound Meditation
DESCRIPTION:Join us for a restorative evening with Kelvin Young for a healing sound bath meditation\; a holistic approach to relaxation\, transformation and healing through sound.\n\n\n\nDuring a session\, Kelvin plays the crystal and Tibetan singing bowls\, gong\, ocean drum\, chimes and other healing instruments (tools) to activate the relaxation response to calm your mind\, relax your body\, and nourish your soul.\n\n\n\nThe meditative sounds promote healing from chronic stress\, muscle tension\, addictive behaviors\, sleep disorders\, depression\, anxiety\, PTSD\, stuck emotions\, unprocessed trauma\, high blood pressure and other stress-related chronic health conditions.\n\n\n\nTogether\, we'll create a safe space for you to connect with your body\, emotions and intuition for rejuvenation\, mental clarity and insight. We invite you bring your own yoga mat and blanket to relax with or you are welcome to use one provided by Priv -Swiss.\n\n \n\nThursday November 10th\, 6:30pm - 7:30pm\, Priv -Swiss Wellness\, Ivoryton CT\n\nCost: $40
X-ALT-DESC;FMTTYPE=text/html:<div>Join us for a restorative evening with Kelvin Young for a healing sound bath meditation\; a holistic approach to relaxation\, transformation and healing through sound.<br />\n<br />\nDuring a session\, Kelvin plays the crystal and Tibetan singing bowls\, gong\, ocean drum\, chimes and other healing instruments (tools) to activate the relaxation response to calm your mind\, relax your body\, and nourish your soul.<br />\n<br />\nThe meditative sounds promote healing from chronic stress\, muscle tension\, addictive behaviors\, sleep disorders\, depression\, anxiety\, PTSD\, stuck emotions\, unprocessed trauma\, high blood pressure and other stress-related chronic health conditions.<br />\n<br />\nTogether\, we&#39\;ll create a safe space for you to connect with your body\, emotions and intuition for rejuvenation\, mental clarity and insight. We invite you bring your own yoga mat and blanket to relax with or you are welcome to use one provided by Priv&eacute\;<span style="color:rgb(77\, 81\, 86)\; font-family:roboto\,arial\,sans-serif\; font-size:14px">-</span>Swiss.<br />\n&nbsp\;</div>\n\n<div>Thursday November 10th\, 6:30pm - 7:30pm\, Priv&eacute\;<span style="color:rgb(77\, 81\, 86)\; font-family:roboto\,arial\,sans-serif\; font-size:14px">-</span>Swiss&nbsp\;Wellness\, Ivoryton CT</div>\n\n<div>Cost: $40</div>\n
LOCATION:Priv -Swiss Wellness: 57 Main Street Ivoryton\, CT
UID:e.1932.24072
SEQUENCE:3
DTSTAMP:20260420T220051Z
URL:https://business.middlesexchamber.com/events/details/healing-sound-meditation-24072
END:VEVENT

END:VCALENDAR
