BEGIN:VCALENDAR
VERSION:2.0
PRODID:-//ChamberMaster//Event Calendar 2.0//EN
METHOD:PUBLISH
X-PUBLISHED-TTL:P3D
REFRESH-INTERVAL:P3D
CALSCALE:GREGORIAN
BEGIN:VEVENT
DTSTART:20230121T130000Z
DTEND:20230121T200000Z
X-MICROSOFT-CDO-ALLDAYEVENT:FALSE
SUMMARY:Hartford Post Office Passport Fair
DESCRIPTION:The Hartford Post Office is serving up convenience this month at a passport fair on Saturday\, Jan. 21. No appointment is needed to get a new passport application mailed in or renewal on your current one.\n\nHours of the passport fair are 8 a.m. to 3 p.m.\n\nHartford Post Office is located at 141 Weston St.\, Hartford\, CT 06101.\n\nPassport applicants need to:\n\n\n	Bring proper proof of American citizenship. This must be either a certified birth certificate issued by the city\, county or state\; a previous U.S. passport\; a certificate of citizenship\; or a naturalization certificate (please note: a hospital-issued birth certificate alone is not acceptable.)\n	Bring proof of identity. This must be either: a recently issued U.S. passport\; a recently issued naturalization certificate\; a recently issued certificate of citizenship\; or a current valid driver's license\, government ID or military photo ID.\n\n\nThe passport application requires recent color passport photograph of you (2" x 2" in size).\n\nCustomers should download the passport application www.travel.state.gov  and complete beforehand. Do not sign the application.\n\nAll applicants must appear in person (including minors).\n\nEach passport for an adult must be accompanied by a check or money order for $130\, made payable to the U.S. Department of State and a $35 acceptance fee made payable to USPS. Fees for children under 16 are $100\, payable to the U.S. Department of State and $35 payable to USPS.\n\nThe cost to expedite processing at the Department of State is $60 paid per application\, in addition to required fees.\n\nPassport customers may also check the U.S. State Department's web site at www.travel.state.gov to obtain additional information. Customers may also obtain passport information by phone\, in English and Spanish\, by calling the National Passport Information Center toll-free at 1-877-487-2778.
X-ALT-DESC;FMTTYPE=text/html:<p>The Hartford Post Office is serving up convenience this month at a passport fair on Saturday\, Jan. 21. No appointment is needed to get a new passport application mailed in or renewal on your current one.</p>\n\n<p>Hours of the passport fair are 8 a.m. to 3 p.m.</p>\n\n<p>Hartford Post Office is located at 141 Weston St.\, Hartford\, CT 06101.</p>\n\n<p><strong>Passport applicants need to:</strong></p>\n\n<ul style="margin-left:1rem">\n	<li>Bring proper proof of American citizenship. This must be either a certified birth certificate issued by the city\, county or state\; a previous U.S. passport\; a certificate of citizenship\; or a naturalization certificate (please note: a hospital-issued birth certificate alone is not acceptable.)</li>\n	<li>Bring proof of identity. This must be either: a recently issued U.S. passport\; a recently issued naturalization certificate\; a recently issued certificate of citizenship\; or a current valid driver&rsquo\;s license\, government ID or military photo ID.</li>\n</ul>\n\n<p>The passport application requires recent color passport photograph of you (2&rdquo\; x 2&rdquo\; in size).</p>\n\n<p>Customers should download the passport application&nbsp\;<a href="https://www.usps.com/international/passports.htm" style="box-sizing: border-box\; color: rgb(0\, 75\, 135)\; text-decoration-line: none\; background-color: transparent\; border-bottom: 1px dotted\;">www.travel.state.gov</a>&nbsp\; and complete beforehand.&nbsp\;<u>Do not sign the application</u>.</p>\n\n<p>All applicants must appear in person (including minors).</p>\n\n<p>Each passport for an adult must be accompanied by a check or money order for $130\, made payable to the U.S. Department of State and a $35 acceptance fee made payable to USPS. Fees for children under 16 are $100\, payable to the U.S. Department of State and $35 payable to USPS.</p>\n\n<p>The cost to expedite processing at the Department of State is $60 paid per application\, in addition to required fees.</p>\n\n<p>Passport customers may also check the U.S. State Department&rsquo\;s web site at&nbsp\;<a href="https://travel.state.gov/content/travel.html" style="box-sizing: border-box\; color: rgb(0\, 75\, 135)\; text-decoration-line: none\; background-color: transparent\; border-bottom: 1px dotted\;">www.travel.state.gov</a>&nbsp\;to obtain additional information.&nbsp\;Customers may also obtain passport information by phone\, in English and Spanish\, by calling the National Passport Information Center toll-free at 1-877-487-2778.&nbsp\;</p>\n
LOCATION:Hartford Post Office 141 Weston Street Hartford\, CT 06101
UID:e.1932.24745
SEQUENCE:3
DTSTAMP:20260420T192752Z
URL:https://business.middlesexchamber.com/events/details/hartford-post-office-passport-fair-24745
END:VEVENT

END:VCALENDAR
