BEGIN:VCALENDAR
VERSION:2.0
PRODID:-//ChamberMaster//Event Calendar 2.0//EN
METHOD:PUBLISH
X-PUBLISHED-TTL:P3D
REFRESH-INTERVAL:P3D
CALSCALE:GREGORIAN
BEGIN:VEVENT
DTSTART:20221028T230000Z
DTEND:20221029T010000Z
X-MICROSOFT-CDO-ALLDAYEVENT:FALSE
SUMMARY:Halloween Costume Party Open House & Social Dance
DESCRIPTION:Wear your best costume for our Halloween Costume Party\, Social Dance\, & Open House this Friday 10/28 from 7-9 PM! Free Admission - Open to the Public. \n\n\n\nLearn about the styles of dance we teach\, meet new people\, socialize\, and dance.\n\n\n\nRSVP in advance to enter our raffle for a chance to win a free dance lesson and other fun prizes!
X-ALT-DESC;FMTTYPE=text/html:<span style="font-family:trebuchet ms\,helvetica neue\,helvetica\,tahoma\,sans-serif\; font-size:16px">Wear your best costume for our Halloween Costume Party\, Social Dance\, &amp\;&nbsp\;Open House this Friday 10/28 from 7-9 PM! Free Admission - Open to the Public.&nbsp\;</span><br />\n<br />\n<span style="font-family:trebuchet ms\,helvetica neue\,helvetica\,tahoma\,sans-serif\; font-size:16px">Learn about the styles of dance we teach\, meet new people\, socialize\, and dance.<br />\n<br />\nRSVP in advance to enter our raffle for a chance to win a free dance lesson and other fun prizes!</span>
LOCATION:Fred Astaire Dance Studios of Middletown 19 Tuttle Place Middletown\, CT 06457
UID:e.1932.24024
SEQUENCE:3
DTSTAMP:20260421T005020Z
URL:https://business.middlesexchamber.com/events/details/halloween-costume-party-open-house-social-dance-24024
END:VEVENT

END:VCALENDAR
