BEGIN:VCALENDAR
VERSION:2.0
PRODID:-//ChamberMaster//Event Calendar 2.0//EN
METHOD:PUBLISH
X-PUBLISHED-TTL:P3D
REFRESH-INTERVAL:P3D
CALSCALE:GREGORIAN
BEGIN:VEVENT
DTSTART:20171121T133000Z
DTEND:20171121T143000Z
X-MICROSOFT-CDO-ALLDAYEVENT:FALSE
SUMMARY:Hal Kaplan Middletown Mentor Core Committee
DESCRIPTION:
X-ALT-DESC;FMTTYPE=text/html:
LOCATION:Middlesex Chamber 393 Main Street Middletown\, CT
UID:e.1932.4782
SEQUENCE:3
DTSTAMP:20260423T162054Z
URL:https://business.middlesexchamber.com/events/details/hal-kaplan-middletown-mentor-core-committee-4782
END:VEVENT

END:VCALENDAR
