BEGIN:VCALENDAR
VERSION:2.0
PRODID:-//ChamberMaster//Event Calendar 2.0//EN
METHOD:PUBLISH
X-PUBLISHED-TTL:P3D
REFRESH-INTERVAL:P3D
CALSCALE:GREGORIAN
BEGIN:VEVENT
DTSTART:20220731T210000Z
DTEND:20220731T230000Z
X-MICROSOFT-CDO-ALLDAYEVENT:FALSE
SUMMARY:Haddam & Killingworth Lions present: The U.S. Coast Guard Band
DESCRIPTION:The Haddam & Killingworth Lions present The U.S. Coast Guard Band in a free outdoor concert of stirring patriotic favorites\, virtuosic concert band classics and swinging Dixieland Jazz
X-ALT-DESC;FMTTYPE=text/html:The Haddam &amp\; Killingworth Lions present The U.S. Coast Guard Band in a free outdoor concert of stirring patriotic favorites\, virtuosic concert band classics and swinging Dixieland Jazz
LOCATION:Parmelee Farm\, Killingworth\, CT
UID:e.1932.23854
SEQUENCE:3
DTSTAMP:20260421T033344Z
URL:https://business.middlesexchamber.com/events/details/haddam-killingworth-lions-present-the-u-s-coast-guard-band-23854
END:VEVENT

END:VCALENDAR
