BEGIN:VCALENDAR
VERSION:2.0
PRODID:-//ChamberMaster//Event Calendar 2.0//EN
METHOD:PUBLISH
X-PUBLISHED-TTL:P3D
REFRESH-INTERVAL:P3D
CALSCALE:GREGORIAN
BEGIN:VEVENT
DTSTART:20240725T230000Z
DTEND:20240726T010000Z
X-MICROSOFT-CDO-ALLDAYEVENT:FALSE
SUMMARY:Grassy strip Music Series
DESCRIPTION:The Grassy Strip Music Series at Madison Beach Hotel returns for the 2024 summer season with free\, live outdoor concerts.\n\n\n\nJuly 25 Peter\, Jim and Brendan Mayer  Free and open to the public\,\n\n\n\nThe Grassy Strip Concerts are 7:30 p.m. to 9 p.m. and begin with The Pledge of Allegiance.\n\n\n\nSummertime food and beverages will be available for sale.
X-ALT-DESC;FMTTYPE=text/html:<span style="font-size:18px\;">The Grassy Strip Music Series at Madison Beach Hotel returns for the 2024 summer season with free\, live outdoor concerts.<br />\n<br />\nJuly 25 <strong>Peter\, Jim and Brendan Mayer</strong>&nbsp\; Free and open to the public\,<br />\n<br />\nThe Grassy Strip Concerts are 7:30 p.m. to 9 p.m. and begin with The Pledge of Allegiance.<br />\n<br />\nSummertime food and beverages will be available for sale.</span>
LOCATION:Madison Beach Hotel 94 West Wharf Road Madison\, CT
UID:e.1932.29458
SEQUENCE:3
DTSTAMP:20260419T191028Z
URL:https://business.middlesexchamber.com/events/details/grassy-strip-music-series-07-25-2024-29458
END:VEVENT

END:VCALENDAR
