BEGIN:VCALENDAR
VERSION:2.0
PRODID:-//ChamberMaster//Event Calendar 2.0//EN
METHOD:PUBLISH
X-PUBLISHED-TTL:P3D
REFRESH-INTERVAL:P3D
CALSCALE:GREGORIAN
BEGIN:VEVENT
DTSTART:20230427T210000Z
DTEND:20230427T220000Z
X-MICROSOFT-CDO-ALLDAYEVENT:FALSE
SUMMARY:Golf Committee
DESCRIPTION:The Chamber's Annual Golf Tournament is one of the premier amateur golf tournaments in the area. Proceeds from the tournament support Chamber programs and the Lorraine McHugh Scholarship\, given to a graduating senior who will attend one of the Connecticut's State University System Schools.\n\n\n\nThis committee is an open committee! If you would like more information on how you can get involved please contact danielle@middlesexchamber.com
X-ALT-DESC;FMTTYPE=text/html:The Chamber&#39\;s Annual Golf Tournament is one of the premier amateur golf tournaments in the area. Proceeds from the tournament support Chamber programs and the Lorraine McHugh Scholarship\, given to a graduating senior who will attend one of the Connecticut&#39\;s State University System Schools.<br />\n<br />\nThis committee is an open committee! If you would like more information on how you can get involved please contact <a href="mailto:danielle@middlesexchamber.com">danielle@middlesexchamber.com</a>
LOCATION:Luce Restaurant 98 Washington Street Middletown\, CT
UID:e.1932.24737
SEQUENCE:3
DTSTAMP:20260420T182046Z
URL:https://business.middlesexchamber.com/events/details/golf-committee-04-27-2023-24737
END:VEVENT

END:VCALENDAR
