BEGIN:VCALENDAR
VERSION:2.0
PRODID:-//ChamberMaster//Event Calendar 2.0//EN
METHOD:PUBLISH
X-PUBLISHED-TTL:P3D
REFRESH-INTERVAL:P3D
CALSCALE:GREGORIAN
BEGIN:VEVENT
DTSTART:20250902T120000Z
DTEND:20250902T210000Z
X-MICROSOFT-CDO-ALLDAYEVENT:FALSE
SUMMARY:Golf Challenge at TPC...a Paul Drury Original
DESCRIPTION:Join the Cystic Fibrosis Foundation for a day of golf you don't want to miss!  Play on the renowned course where the pros play - TPC River Highlands in Cromwell\, CT. \n\n\n\nThis event supports the mission of the Cystic Fibrosis Foundation to cure cystic fibrosis and to provide all people with CF the opportunity to lead long\, fulfilling lives by funding research and drug development\, partnering with the CF community\, and advancing high-quality\, specialized care. Cystic fibrosis is a genetic disorder that affects the lungs\, pancreas\, and other organs.\n\n\n\n-Shotgun Start\n\n-Play Your Own Ball\n\n-Foursomes\, Sponsorships\, and Individual Spots Available\n\n-Breakfast\, Lunch Buffet\, Beverages\n\n-Prizes and Auction\n\nYou have the option to return to the course after lunch for extended play!
X-ALT-DESC;FMTTYPE=text/html:<p><span style="color:#0000CD"><span style="font-size:16px"><span style="font-family:tahoma">Join the Cystic Fibrosis Foundation for a day of golf you don&#39\;t want to miss!&nbsp\; Play on the renowned course where the pros play - TPC River Highlands in Cromwell\, CT.&nbsp\;<br />\n<br />\nThis event supports the mission of the Cystic Fibrosis Foundation to cure cystic fibrosis and to provide all people with CF the opportunity to lead long\, fulfilling lives by funding research and drug development\, partnering with the CF community\, and advancing high-quality\, specialized care. Cystic fibrosis is&nbsp\;a genetic disorder that affects the lungs\, pancreas\, and other organs.<br />\n<br />\n-Shotgun Start<br />\n-Play Your Own Ball<br />\n-Foursomes\, Sponsorships\, and Individual Spots Available<br />\n-Breakfast\, Lunch Buffet\, Beverages</span><br />\n<span style="font-family:lato\,sans-serif"><span style="font-family:tahoma">-Prizes and Auction<br />\nYou have the option to return to the course after lunch for extended play!</span></span></span></span></p>\n
LOCATION:TPC River Highlands Cromwell\, CT
UID:e.1932.32597
SEQUENCE:3
DTSTAMP:20260424T224218Z
URL:https://business.middlesexchamber.com/events/details/golf-challenge-at-tpc-a-paul-drury-original-32597
END:VEVENT

END:VCALENDAR
