BEGIN:VCALENDAR
VERSION:2.0
PRODID:-//ChamberMaster//Event Calendar 2.0//EN
METHOD:PUBLISH
X-PUBLISHED-TTL:P3D
REFRESH-INTERVAL:P3D
CALSCALE:GREGORIAN
BEGIN:VEVENT
DTSTART:20221113T210000Z
DTEND:20221113T230000Z
X-MICROSOFT-CDO-ALLDAYEVENT:FALSE
SUMMARY:Gloria by Antonio Vivaldi & The Four Seasons by Martin Sedek
DESCRIPTION:Conducted by Joe D'Eugenio with Alchemy\, Elm City Girls' Choir\, and Orchestra New England\n\n\nGMChorale presents a unique pairing of baroque and contemporary music with Antonio Vivaldi's Gloria\, composed c.1716 in Venice performed alongside Martin Sedek's The Four Seasons: A Cantata composed in 2015 in the United States. The latter is set to sonnets\, translated into English by the composer\, that Vivaldi originally set to accompany his instrumental work: The Four Seasons. \n\n\n\nAudiences will be delighted to hear the baroque and contemporary styles in conversation and juxtaposed against one another for a uniquely GMChorale musical event.
X-ALT-DESC;FMTTYPE=text/html:<h2><span style="color:rgb(var(--color_15))"><strong><span style="font-family:futura-lt-w01-light\,sans-serif">Conducted by Joe D&#39\;Eugenio with Alchemy\, Elm City Girls&#39\; Choir\, and Orchestra New England</span></strong></span></h2>\n<br />\n<span style="color:rgb(0\, 0\, 0)\; font-family:avenir-lt-w01_35-light1475496\,avenir-lt-w05_35-light\,sans-serif\; font-size:17px">GMChorale presents a unique pairing of baroque and contemporary music with Antonio Vivaldi&#39\;s&nbsp\;</span><span style="font-size:16px"><strong><em>Gloria\,</em></strong></span><span style="color:rgb(0\, 0\, 0)\; font-family:avenir-lt-w01_35-light1475496\,avenir-lt-w05_35-light\,sans-serif\; font-size:17px">&nbsp\;composed c.1716 in Venice</span><em>&nbsp\;</em><span style="color:rgb(0\, 0\, 0)\; font-family:avenir-lt-w01_35-light1475496\,avenir-lt-w05_35-light\,sans-serif\; font-size:17px">performed alongside Martin Sedek&#39\;s&nbsp\;</span><span style="font-size:16px"><strong><em>The Four Seasons: A Cantata</em></strong></span><span style="color:rgb(0\, 0\, 0)\; font-family:avenir-lt-w01_35-light1475496\,avenir-lt-w05_35-light\,sans-serif\; font-size:17px"><span style="font-size:16px"><strong>&nbsp\;</strong></span>composed in 2015 in the United States. The latter is set to sonnets\, translated into English by the composer\, that Vivaldi originally set to accompany his instrumental work:</span><em>&nbsp\;<strong><span style="font-size:16px">The Four Seasons</span></strong></em><span style="color:rgb(0\, 0\, 0)\; font-family:avenir-lt-w01_35-light1475496\,avenir-lt-w05_35-light\,sans-serif\; font-size:17px"><strong><span style="font-size:16px">.</span></strong>&nbsp\;<br />\n<br />\nAudiences will be delighted to hear the baroque and contemporary styles in conversation and juxtaposed against one another for a uniquely GMChorale musical event.</span>
LOCATION:Santo Fragilio Performing Arts Center at Middletown High School 200 LaRosa Lane Middletown\, CT
UID:e.1932.24009
SEQUENCE:3
DTSTAMP:20260420T220738Z
URL:https://business.middlesexchamber.com/events/details/gloria-by-antonio-vivaldi-the-four-seasons-by-martin-sedek-24009
END:VEVENT

END:VCALENDAR
