BEGIN:VCALENDAR
VERSION:2.0
PRODID:-//ChamberMaster//Event Calendar 2.0//EN
METHOD:PUBLISH
X-PUBLISHED-TTL:P3D
REFRESH-INTERVAL:P3D
CALSCALE:GREGORIAN
BEGIN:VEVENT
DTSTART:20230429T000000Z
DTEND:20230429T013000Z
X-MICROSOFT-CDO-ALLDAYEVENT:FALSE
SUMMARY:Generation Radio
DESCRIPTION:Generation Radio are bringing classic 80's rock back as they make a stop at Foxwoods Resort Casino! In the beginning of 2020\,\n\n\n\nGeneration Radio came together with the intent to form a band with a purpose - to bring classic 80's rock back to life. As their self-titled debut illustrates\, mission accomplished.\n\n\n\nTwo-time Grammy award winning bassist Jay Demarcus of the hugely popular country act Rascal Flatts and Jason Scheff\, who was lead vocalist and bass player for the multi-platinum band Chicago for over 30 years\, are joined by drummer Steve Ferrone (Tom Petty & The Heartbreakers)\, guitarist Chris Rodriguez and guitarist Tom Yankton in Generation Radio.
X-ALT-DESC;FMTTYPE=text/html:Generation Radio are bringing classic 80&#39\;s rock back as they make a stop at Foxwoods Resort Casino! In the beginning of 2020\,<br />\n<br />\nGeneration Radio came together with the intent to form a band with a purpose - to bring classic 80&#39\;s rock back to life. As their self-titled debut illustrates\, mission accomplished.<br />\n<br />\nTwo-time Grammy award winning bassist Jay Demarcus of the hugely popular country act Rascal Flatts and Jason Scheff\, who was lead vocalist and bass player for the multi-platinum band Chicago for over 30 years\, are joined by drummer Steve Ferrone (Tom Petty &amp\; The Heartbreakers)\, guitarist Chris Rodriguez and guitarist Tom Yankton in Generation Radio.
LOCATION:Foxwoods Resort Casino inside the Great Cedar Showroom 350 TROLLEY LINE BOULEVARD MASHANTUCKET\, CT 06338
UID:e.1932.25252
SEQUENCE:3
DTSTAMP:20260420T164833Z
URL:https://business.middlesexchamber.com/events/details/generation-radio-25252
END:VEVENT

END:VCALENDAR
