BEGIN:VCALENDAR
VERSION:2.0
PRODID:-//ChamberMaster//Event Calendar 2.0//EN
METHOD:PUBLISH
X-PUBLISHED-TTL:P3D
REFRESH-INTERVAL:P3D
CALSCALE:GREGORIAN
BEGIN:VEVENT
DTSTART:20220817T160000Z
DTEND:20220817T170000Z
X-MICROSOFT-CDO-ALLDAYEVENT:FALSE
SUMMARY:Free Key4Women Webinar Gives Women Tools to Make Brave Decisions in Business and Life
DESCRIPTION:Free Key4Women Webinar Gives Women Tools to Make Brave Decisions in Business and Life\n\n \n\nOne-hour webinar features board-certified executive coach\, Kris McGuigan\n\n \n\nAugust 1\, 2022   KeyBank's Key4Women program will present "The Requisite Courage: How to Make Brave Decisions in Business & Life\," a free\, one-hour virtual event on Wednesday\, August 17\, at noon EST.\n\n\n\nThe webinar will feature founder and principal owner of Professional Courage\, Kris McGuigan\, who will discuss her new book "The Requisite Courage: How to Make Brave Decisions in Business & Life." McGuigan will take participants through the book and road map for finding professional and personal bravery for life elements that matter most. Guests will leave feeling confident and with a guide to help overcome any obstacle\, take more risks\, and get results.\n\n\n\nMcGuigan is a board-certified executive coach\, keynote speaker\, and corporate trainer for the nation's most prominent Fortune 500 companies and has helped countless leaders step up and stand out in the marketplace.\n\n\n\nAll webinar attendees will receive access to the e-book version of McGuigan's book. The first 125 registrants will receive a complimentary hard copy of her book. Registrants must also attend the webinar to receive the book.\n\n\n\n"This is yet another example of how Key4Women is bringing women together to discuss topics of challenge and opportunity\," said Rachael Sampson\, Key4Women Leader. "Kris' book will take attendees on a journey to personal and professional growth in both business and personal life. We are excited to have her share with our audience."\n\n\n\nFor more information\, visit www.key.com/women\, or register online by August 16 at https://web.cvent.com/event/353fdf75-1db0-41c5-bec6-731d5ec15f7a/summary\n\n\n\nAbout KayBank/KeyCorp\n\nKeyCorp's roots trace back nearly 200 years to Albany\, New York. Headquartered in Cleveland\, Ohio\, Key is one of the nation's largest bank-based financial services companies\, with assets of approximately $187.0 billion at June 30\, 2022. Key provides deposit\, lending\, cash management\, and investment services to individuals and businesses in 15 states under the name KeyBank National Association through a network of approximately 1\,000 branches and approximately 1\,300 ATMs. Key also provides a broad range of sophisticated corporate and investment banking products\, such as merger and acquisition advice\, public and private debt and equity\, syndications and derivatives to middle market companies in selected industries throughout the United States under the KeyBanc Capital Markets trade name. For more information\, visit https://www.key.com/. KeyBank is Member FDIC.\n\n# # # \n\n \n\nCONTACT: Karen Crane\, Sr. Communication Manager | karen_crane@keybank.com | 203-7894252
X-ALT-DESC;FMTTYPE=text/html:<span style="font-size:14px\;"><strong><span style="font-family:arial\,sans-serif\;">Free Key4Women Webinar Gives Women Tools to Make Brave Decisions</span><span style="font-family:arial\,sans-serif\;">&nbsp\;in Business and Life</span></strong><br />\n&nbsp\;<br />\n<em><span style="font-family:arial\,sans-serif\;">One-hour webinar features board-certified executive coach\, Kris McGuigan</span></em><br />\n&nbsp\;<br />\nAugust 1\, 2022 &mdash\; KeyBank&rsquo\;s Key4Women program will present &ldquo\;The Requisite Courage: How to Make Brave Decisions in Business &amp\; Life\,&rdquo\; a free\, one-hour virtual event on Wednesday\, August 17\, at noon EST.<br />\n<br />\nThe webinar will feature founder and principal owner of <a href="https://www.professionalcourage.com/">Professional Courage</a>\, Kris McGuigan\, who will discuss her new book &ldquo\;<em>The Requisite Courage: How to Make Brave Decisions in Business &amp\; Life</em>.&rdquo\; McGuigan will take participants through the book and road map for finding professional and personal bravery for life elements that matter most. Guests will leave feeling confident and with a guide to help overcome any obstacle\, take more risks\, and get results.<br />\n<br />\nMcGuigan is a board-certified executive coach\, keynote speaker\, and corporate trainer for the nation&rsquo\;s most prominent Fortune 500 companies and has helped countless leaders step up and stand out in the marketplace.<br />\n<br />\nAll webinar attendees will receive access to the e-book version of McGuigan&rsquo\;s book. The first 125 registrants will receive a complimentary hard copy of her book. Registrants must also attend the webinar to receive the book.<br />\n<br />\n&ldquo\;This is yet another example of how Key4Women is bringing women together to discuss topics of challenge and opportunity\,&rdquo\; said Rachael Sampson\, Key4Women Leader. &ldquo\;Kris&rsquo\; book will take attendees on a journey to personal and professional growth in both business and personal life. We are excited to have her share with our audience.&rdquo\;<br />\n<br />\nFor more information\, visit <a href="http://www.key.com/women">www.key.com/women</a>\, or register online by August 16 at&nbsp\;</span><span style="color:black\;"><span style="font-family:calibri\,sans-serif\;"><span style="font-size:11.0pt\;"><a href="https://web.cvent.com/event/353fdf75-1db0-41c5-bec6-731d5ec15f7a/summary">https://web.cvent.com/event/353fdf75-1db0-41c5-bec6-731d5ec15f7a/summary</a></span></span></span><br />\n<br />\n<span style="font-size:14px\;"><strong><u><span style="font-family:arial\,sans-serif\;">About KayBank/KeyCorp</span></u></strong><br />\n<span style="font-family:arial\,sans-serif\;">KeyCorp&#39\;s roots trace back nearly 200 years to Albany\, New York. Headquartered in Cleveland\, Ohio\, Key is one of the nation&#39\;s largest bank-based financial services companies\, with assets of approximately $187.0 billion at June 30\, 2022. Key provides deposit\, lending\, cash management\, and investment services to individuals and businesses in 15 states under the name KeyBank National Association through a network of approximately 1\,000 branches and approximately 1\,300 ATMs. Key also provides a broad range of sophisticated corporate and investment banking products\, such as merger and acquisition advice\, public and private debt and equity\, syndications and derivatives to middle market companies in selected industries throughout the United States under the KeyBanc Capital Markets trade name. For more information\, visit&nbsp\;</span><span style="font-family:arial\,sans-serif\;"><a href="https://c212.net/c/link/?t=0&amp\;l=en&amp\;o=3605999-1&amp\;h=525688078&amp\;u=https%3A%2F%2Fwww.key.com%2F&amp\;a=https%3A%2F%2Fwww.key.com%2F" target="_blank"><span style="color:#0267B1\;">https://www.key.com/</span></a>. KeyBank is Member FDIC.</span><br />\n<span style="font-family:arial\,sans-serif\;"># # # </span><br />\n&nbsp\;<br />\n<strong><span style="font-family:arial\,sans-serif\;">CONTACT</span></strong><span style="font-family:arial\,sans-serif\;">: Karen Crane\, Sr. Communication Manager | <a href="mailto:karen_crane@keybank.com">karen_crane@keybank.com</a> | 203-7894252&nbsp\; &nbsp\; &nbsp\; &nbsp\; &nbsp\;</span></span>
LOCATION:Webinar
UID:e.1932.23880
SEQUENCE:3
DTSTAMP:20260421T033949Z
URL:https://business.middlesexchamber.com/events/details/free-key4women-webinar-gives-women-tools-to-make-brave-decisions-in-business-and-life-23880
END:VEVENT

END:VCALENDAR
