BEGIN:VCALENDAR
VERSION:2.0
PRODID:-//ChamberMaster//Event Calendar 2.0//EN
METHOD:PUBLISH
X-PUBLISHED-TTL:P3D
REFRESH-INTERVAL:P3D
CALSCALE:GREGORIAN
BEGIN:VEVENT
DTSTART:20251029T213000Z
DTEND:20251029T223000Z
X-MICROSOFT-CDO-ALLDAYEVENT:FALSE
SUMMARY:First Time Homebuyers Class
DESCRIPTION:Is homeownership in your future? \nJoin us to learn the positives and negatives of: \n\n\n	Owning a home\n	Available mortgage options and financing considerations\n	The steps and documentation needed during each step of the home-buying process\n	How to qualify for a mortgage and get your credit mortgage-ready.\n\nRegister today!
X-ALT-DESC;FMTTYPE=text/html:<div><span style="font-size:18px\;">Is homeownership in your future? </span></div>\n<span style="font-size:18px\;">Join us to learn the positives and negatives of: </span>\n\n<ul>\n	<li><span style="font-size:18px\;">Owning a home</span></li>\n	<li><span style="font-size:18px\;">Available mortgage options and financing considerations</span></li>\n	<li><span style="font-size:18px\;">The steps and documentation needed during each step of the home-buying process</span></li>\n	<li><span style="font-size:18px\;">How to qualify for a mortgage and get your credit mortgage-ready.</span></li>\n</ul>\n<a href="https://cvent.me/KdGLEW"><span style="font-size:18px\;"><strong>Register today!</strong></span></a>
LOCATION:Chelsea Groton Bank Salem Branch 20 Hartford Road Salem\, CT
UID:e.1932.33907
SEQUENCE:3
DTSTAMP:20260424T212847Z
URL:https://business.middlesexchamber.com/events/details/first-time-homebuyers-class-33907
END:VEVENT

END:VCALENDAR
