BEGIN:VCALENDAR
VERSION:2.0
PRODID:-//ChamberMaster//Event Calendar 2.0//EN
METHOD:PUBLISH
X-PUBLISHED-TTL:P3D
REFRESH-INTERVAL:P3D
CALSCALE:GREGORIAN
BEGIN:VEVENT
DTSTART:20251202T170000Z
DTEND:20251202T190000Z
X-MICROSOFT-CDO-ALLDAYEVENT:FALSE
SUMMARY:Fireside Holiday Tea at The Westbrook Inn
DESCRIPTION:Cozy up by the fire with our festive Holiday Afternoon Tea   a charming seasonal escape featuring delicate sandwiches\, sweet treats\, and soothing teas in the warm glow of The Westbrook Inn's inviting hearth.\n\n\n\nIndulge in a two-hour tea service featuring a choice of two gourmet teas\, delicate finger sandwiches\, cookies\, a warm scone with jam and cr me fra che\, and more! \n\n\n\nTickets are $40.00 per person + tax. Gratuity Not Included.\n\n\n\nWe are sorry but we do not issue refunds or credits.\n\n\n\nClick here to purchase your tickets.
X-ALT-DESC;FMTTYPE=text/html:<span style="font-size:18px\;"><span style="color: rgb(0\, 0\, 0)\; font-family: poppins\, sans-serif\;">Cozy up by the fire with our festive Holiday Afternoon Tea &mdash\; a charming seasonal escape featuring delicate sandwiches\, sweet treats\, and soothing teas in the warm glow of The Westbrook Inn&#39\;s inviting hearth.</span><br />\n<br />\n<span style="color: rgb(0\, 0\, 0)\; font-family: poppins\, sans-serif\;">Indulge in a two-hour tea service featuring a choice of two gourmet teas\, delicate finger sandwiches\, cookies\, a warm scone with jam and cr&egrave\;me fra&icirc\;che\, and more!&nbsp\;</span><br />\n<br />\n<span style="color: rgb(0\, 0\, 0)\; font-family: poppins\, sans-serif\;">Tickets are $40.00 per person + tax. Gratuity Not Included.</span><br />\n<br />\n<span style="color: rgb(0\, 0\, 0)\; font-family: poppins\, sans-serif\;">We are sorry but we do not issue refunds or credits.<br />\n<br />\nClick <strong><a href="https://resnexus.com/resnexus/reservations/book/44EE4F15-15EB-467A-84C7-F780C3D6ABC3/giftshop?tabID=17&amp\;_gl=1*psd56i*_gcl_au*MTc2NDk5NjY1Ny4xNzU2NTcyMDc0*_ga*NzU1ODk1NTI0LjE3NTMzMDQ1MjA.*_ga_8NFDZBS8EY*czE3NTk5NDY0OTIkbzE4JGcxJHQxNzU5OTUxMDkxJGo1OCRsMCRoMA..*_ga_7HGRFCKJZJ*czE3NTk5NDY0OTIkbzE2JGcxJHQxNzU5OTUxMDkxJGo1OCRsMCRoMA..&amp\;_ga=2.101267528.815602564.1759936138-755895524.1753304520">here</a></strong> to purchase your tickets.&nbsp\;</span></span>
LOCATION:Westbrook Inn Bed & Breakfast 976 Boston Post Road Westbrook\, CT 06498
UID:e.1932.30704
SEQUENCE:3
DTSTAMP:20260424T192235Z
URL:https://business.middlesexchamber.com/events/details/fireside-holiday-tea-at-the-westbrook-inn-30704
END:VEVENT

END:VCALENDAR
