BEGIN:VCALENDAR
VERSION:2.0
PRODID:-//ChamberMaster//Event Calendar 2.0//EN
METHOD:PUBLISH
X-PUBLISHED-TTL:P3D
REFRESH-INTERVAL:P3D
CALSCALE:GREGORIAN
BEGIN:VEVENT
DTSTART:20220730T000000Z
DTEND:20220730T020000Z
X-MICROSOFT-CDO-ALLDAYEVENT:FALSE
SUMMARY:Far Trio Band from NYC & Buffalo
DESCRIPTION:The Far Trio is a New York City and Buffalo based band featuring Eamon Rahyn (vocal/bass)\, Drew Azzinaro (guitar) and Ethan Fox (drums).\n\n\n\nFar Trio brings together Eamon's soul-filled vocals and bass\, Drew's guitar journeys and Ethan's worldly grooves
X-ALT-DESC;FMTTYPE=text/html:The Far Trio is a New York City and Buffalo based band featuring Eamon Rahyn (vocal/bass)\, Drew Azzinaro (guitar) and Ethan Fox (drums).<br />\n<br />\nFar Trio brings together Eamon&rsquo\;s soul-filled vocals and bass\, Drew&rsquo\;s guitar journeys and Ethan&rsquo\;s worldly grooves
LOCATION:The Buttonwood Tree Performing Arts Center 605 Main Street Middletown\, CT
UID:e.1932.23846
SEQUENCE:3
DTSTAMP:20260421T033627Z
URL:https://business.middlesexchamber.com/events/details/far-trio-band-from-nyc-buffalo-23846
END:VEVENT

END:VCALENDAR
