BEGIN:VCALENDAR
VERSION:2.0
PRODID:-//ChamberMaster//Event Calendar 2.0//EN
METHOD:PUBLISH
X-PUBLISHED-TTL:P3D
REFRESH-INTERVAL:P3D
CALSCALE:GREGORIAN
BEGIN:VEVENT
DTSTART:20251201T163000Z
DTEND:20251201T180000Z
X-MICROSOFT-CDO-ALLDAYEVENT:FALSE
SUMMARY:Executive Committee
DESCRIPTION:The Chamber's Executive Committee is the region's most influential group of business leaders\, committed to the Chamber's mission of making Middlesex County the best place for all businesses and all people to thrive.\n\n\n\nFor a listing of the Chamber's Executive Committee\, please click here.
X-ALT-DESC;FMTTYPE=text/html:The Chamber&rsquo\;s Executive Committee is the region&rsquo\;s most influential group of business leaders\, committed to the Chamber&rsquo\;s mission of making Middlesex County the best place for all businesses and all people to thrive.<br />\n<br />\nFor a listing of the Chamber&rsquo\;s Executive Committee\, please&nbsp\;<a href="https://www.middlesexchamber.com/executive-committee/">click here</a>.
LOCATION:Brown & Brown of CT 520 Cromwell Ave Rocky Hill\, CT
UID:e.1932.30309
SEQUENCE:3
DTSTAMP:20260424T192038Z
URL:https://business.middlesexchamber.com/events/details/executive-committee-12-01-2025-30309
END:VEVENT

END:VCALENDAR
