BEGIN:VCALENDAR
VERSION:2.0
PRODID:-//ChamberMaster//Event Calendar 2.0//EN
METHOD:PUBLISH
X-PUBLISHED-TTL:P3D
REFRESH-INTERVAL:P3D
CALSCALE:GREGORIAN
BEGIN:VEVENT
DTSTART:20260601T153000Z
DTEND:20260601T170000Z
X-MICROSOFT-CDO-ALLDAYEVENT:FALSE
SUMMARY:Executive Committee
DESCRIPTION:The Chamber's Executive Committee is the region's most influential group of business leaders\, committed to the Chamber's mission of making Middlesex County the best place for all businesses and all people to thrive.\n\n\n\nFor a listing of the Chamber's Executive Committee\, please click here.\n\n\n\nThis committee is a closed committee. If you would like more information on how you can get involved please contact Johanna Bond at johanna@middlesexchamber.com.
X-ALT-DESC;FMTTYPE=text/html:The Chamber&rsquo\;s Executive Committee is the region&rsquo\;s most influential group of business leaders\, committed to the Chamber&rsquo\;s mission of making Middlesex County the best place for all businesses and all people to thrive.<br />\n<br />\nFor a listing of the Chamber&rsquo\;s Executive Committee\, please&nbsp\;<a href="https://www.middlesexchamber.com/executive-committee/">click here</a>.<br />\n<br />\nThis committee is a closed committee. If you would like more information on how you can get involved please contact Johanna Bond at johanna@middlesexchamber.com.
LOCATION:
UID:e.1932.34419
SEQUENCE:3
DTSTAMP:20260424T192456Z
URL:https://business.middlesexchamber.com/events/details/executive-committee-06-01-2026-34419
END:VEVENT

END:VCALENDAR
