BEGIN:VCALENDAR
VERSION:2.0
PRODID:-//ChamberMaster//Event Calendar 2.0//EN
METHOD:PUBLISH
X-PUBLISHED-TTL:P3D
REFRESH-INTERVAL:P3D
CALSCALE:GREGORIAN
BEGIN:VEVENT
DTSTART:20221116T220000Z
DTEND:20221117T020000Z
X-MICROSOFT-CDO-ALLDAYEVENT:FALSE
SUMMARY:Essex Girls' Night
DESCRIPTION:- The E List Sponsored Event -\n\nWe are THRILLED to announce a Girls' Night Out in Essex on November 16th\, 2022.  Meet The E List team at The Griswold Inn Wine Bar between 5 pm and 6:30 pm for 1/2 price wine and to pick up your sticker to qualify for discounts. Then head out to shop the boutiques of Essex and take 20% off almost everything (some exclusions apply) at participating boutiques. Get a head start on the holidays or find some goodies for yourself!\n\nThis event is for E List subscribers and it's free! To RSVP just click here to add your email.\n\nThe Wine Bar at The Griswold Inn at 36 Main Street: Meet us here between 5 and 6:30 for 1/2 price wine and to pick up your sticker to qualify for discounts. The Wine Bar will be open for dinner. Reservations are a must: 860.767.1776\n\nPriv -Swiss Wellness Spa & Boutique located at 10 Main Street\, Essex will be serving drinks and other specials for this event.\n\n \n\nPriv -Swiss Wellness Spa & Boutique\, 10 Main Street: The popular wellness brand expands to Main Street with a gorgeous luxury spa offering wellness services including medspa treatments and lifestyle boutique.  Distinguished\, expert care including the most advanced and effective non-invasive\, cutting-edge cosmetic procedures.  Also introducing Port + Willow\, the destination for bohemian fashion that features the latest trends and vintage collections for women. All within an extraordinary wellness environment!
X-ALT-DESC;FMTTYPE=text/html:<p style="text-align:center"><strong>- The E List Sponsored Event -</strong></p>\n\n<p>We are THRILLED to announce a Girls&rsquo\; Night Out in Essex on November 16th\, 2022. &nbsp\;Meet The E List team at The Griswold Inn Wine Bar between 5 pm and 6:30 pm for 1/2 price wine and to pick up your sticker to qualify for discounts. Then head out to shop the boutiques of Essex and take 20% off almost everything (some exclusions apply) at participating boutiques. Get a head start on the holidays or find some goodies for yourself!</p>\n\n<p>This event is for E List subscribers and it&rsquo\;s free! To RSVP just<a href="https://theeli.st/3vcdFc1" rel="noopener" style="color: rgb(204\, 0\, 0)\; box-sizing: border-box\; background-color: transparent\; touch-action: manipulation\; line-height: inherit\; outline: 0px\; text-decoration-line: none\; pointer-events: auto !important\;" target="_blank">&nbsp\;click here to add your email.</a></p>\n\n<p><a href="https://griswoldinn.com/food-wine/wine-bar-dining/" rel="noopener" style="color: rgb(204\, 0\, 0)\; box-sizing: border-box\; background-color: transparent\; touch-action: manipulation\; line-height: inherit\; outline: 0px\; text-decoration-line: none\; pointer-events: auto !important\;" target="_blank">The Wine Bar at The Griswold Inn at 36 Main Street:&nbsp\;</a>Meet us here between 5 and 6:30 for 1/2 price wine and to pick up your sticker to qualify for discounts. The Wine Bar will be open for dinner. Reservations are a must: 860.767.1776</p>\n\n<div><span style="font-size:12px"><span style="font-family:arial\,helvetica\,sans-serif">Priv<span style="color:rgb(77\, 81\, 86)">&eacute\;</span>-Swiss Well</span></span>ness Spa &amp\; Boutique located at 10 Main Street\, Essex will be serving drinks and other specials for this event.<br />\n&nbsp\;<br />\n<a href="https://priveswisswellness.com/" rel="noopener" style="color: rgb(204\, 0\, 0)\; box-sizing: border-box\; touch-action: manipulation\; line-height: inherit\; outline: 0px\; text-decoration-line: none\; font-family: arial\; font-size: 16px\; pointer-events: auto !important\;" target="_blank">Priv&eacute\;-Swiss Wellness Spa &amp\; Boutique</a><span style="color:rgb(0\, 0\, 0)\; font-family:arial\; font-size:16px">\,&nbsp\;</span><span style="color:rgb(0\, 0\, 0)\; font-family:arial\; font-size:16px">10 Main Street:</span><span style="color:rgb(0\, 0\, 0)\; font-family:arial\; font-size:16px">&nbsp\;The popular wellness brand expands to Main Street with a gorgeous luxury spa offering wellness services including medspa treatments and lifestyle boutique.&nbsp\; Distinguished\, expert care including the most advanced and effective non-invasive\, cutting-edge cosmetic procedures.&nbsp\; Also introducing Port + Willow\, the destination for bohemian fashion that features the latest trends and vintage collections for women.&nbsp\;All within an extraordinary wellness environment!</span></div>\n
LOCATION:Priv -Swiss Wellness Spa & Boutique 10 Main Street Essex\, CT
UID:e.1932.24084
SEQUENCE:3
DTSTAMP:20260420T233513Z
URL:https://business.middlesexchamber.com/events/details/essex-girls-night-24084
END:VEVENT

END:VCALENDAR
