BEGIN:VCALENDAR
VERSION:2.0
PRODID:-//ChamberMaster//Event Calendar 2.0//EN
METHOD:PUBLISH
X-PUBLISHED-TTL:P3D
REFRESH-INTERVAL:P3D
CALSCALE:GREGORIAN
BEGIN:VEVENT
DTSTART:20171004T223000Z
DTEND:20171005T000000Z
X-MICROSOFT-CDO-ALLDAYEVENT:FALSE
SUMMARY:Essential Oils Class to Benefit MHS Project Grad
DESCRIPTION:The many benefits of Essential Oils are pushing their way to the forefront of better health and living in our modern world. Come explore how you can benefit from nature's own remedies! This class is an intro to the world of Essential Oils and practical applications for you and your family. The Essential Oils we will be discussing are used by the Mayo Clinic. This class will be taught by Joanne Tatro\, a Certified Aromatherapist. 100% of proceeds benefit MHS Project Graduation.
X-ALT-DESC;FMTTYPE=text/html:The many benefits of Essential Oils are pushing their way to the forefront of better health and living in our modern world. Come explore how you can benefit from nature&#39\;s own remedies! This class is an intro to the world of Essential Oils and practical applications for you and your family. The Essential Oils we will be discussing are used by the Mayo Clinic. This class will be taught by Joanne Tatro\, a Certified Aromatherapist. 100% of proceeds benefit MHS Project Graduation.
LOCATION:Middlesex Hospital - Goodwin Conference Room 28 Crescent Street Middletown\, CT 06457
UID:e.1932.4691
SEQUENCE:3
DTSTAMP:20260423T232213Z
URL:https://business.middlesexchamber.com/events/details/essential-oils-class-to-benefit-mhs-project-grad-4691
END:VEVENT

END:VCALENDAR
