BEGIN:VCALENDAR
VERSION:2.0
PRODID:-//ChamberMaster//Event Calendar 2.0//EN
METHOD:PUBLISH
X-PUBLISHED-TTL:P3D
REFRESH-INTERVAL:P3D
CALSCALE:GREGORIAN
BEGIN:VEVENT
DTSTART:20221119T180000Z
DTEND:20221119T220000Z
X-MICROSOFT-CDO-ALLDAYEVENT:FALSE
SUMMARY:Escape Alive Self Defense Class
DESCRIPTION:Adult Class  \n\nWomen & Girls 15 and older\n\n \n\nRegistration will be available 1 month prior to the class.\n\nLearn More Here!https://www.janedoenomore.org/escape-alive-upcoming-classes?fbclid=IwAR2vfXDds6l3Gs2BltfbKwIV7G08d7rbvPRgtM5QLVCgp8eCibrugue7VrA
X-ALT-DESC;FMTTYPE=text/html:<span style="color:black\;">Adult Class&nbsp\; </span><br />\n<span style="color:black\;">Women &amp\; Girls 15 and older</span><br />\n&nbsp\;<br />\n<span style="color:black\;">Registration will be available 1 month prior to the class.<br />\nLearn More Here!<a href="https://www.janedoenomore.org/escape-alive-upcoming-classes?fbclid=IwAR2vfXDds6l3Gs2BltfbKwIV7G08d7rbvPRgtM5QLVCgp8eCibrugue7VrA">https://www.janedoenomore.org/escape-alive-upcoming-classes?fbclid=IwAR2vfXDds6l3Gs2BltfbKwIV7G08d7rbvPRgtM5QLVCgp8eCibrugue7VrA</a></span>
LOCATION:Portland High School 75 High Street Portland\, CT
UID:e.1932.23929
SEQUENCE:3
DTSTAMP:20260420T220021Z
URL:https://business.middlesexchamber.com/events/details/escape-alive-self-defense-class-23929
END:VEVENT

END:VCALENDAR
