BEGIN:VCALENDAR
VERSION:2.0
PRODID:-//ChamberMaster//Event Calendar 2.0//EN
METHOD:PUBLISH
X-PUBLISHED-TTL:P3D
REFRESH-INTERVAL:P3D
CALSCALE:GREGORIAN
BEGIN:VEVENT
DTSTART:20230415T230000Z
DTEND:20230416T020000Z
X-MICROSOFT-CDO-ALLDAYEVENT:FALSE
SUMMARY:Epicurean at Madison Beach Hotel
DESCRIPTION:An exclusive five course event featuring dinner and wine pairings with Award Winning Cookbook Author Giuliano Hazan. Menu is paired with selected wines.\n\n\n\nGiuliano is one of the foremost authorities on Italian cooking. He is an award-winning cookbook author and cooking teacher.\n\n\n\nGiuliano and his wife Lael offer week-long food and wine courses in Italy\, which Forbes named one of the top 5 foodie destinations in Italy!
X-ALT-DESC;FMTTYPE=text/html:An exclusive five course event featuring dinner and wine pairings with Award Winning Cookbook Author Giuliano Hazan. Menu is paired with selected wines.<br />\n<br />\nGiuliano is one of the foremost authorities on Italian cooking. He is an award-winning cookbook author and cooking teacher.<br />\n<br />\nGiuliano and his wife Lael offer week-long food and wine courses in Italy\, which Forbes named one of the top 5 foodie destinations in Italy!
LOCATION:Madison Beach Hotel 94 West Wharf Road Madison\, CT
UID:e.1932.24795
SEQUENCE:3
DTSTAMP:20260420T153246Z
URL:https://business.middlesexchamber.com/events/details/epicurean-at-madison-beach-hotel-24795
END:VEVENT

END:VCALENDAR
