BEGIN:VCALENDAR
VERSION:2.0
PRODID:-//ChamberMaster//Event Calendar 2.0//EN
METHOD:PUBLISH
X-PUBLISHED-TTL:P3D
REFRESH-INTERVAL:P3D
CALSCALE:GREGORIAN
BEGIN:VEVENT
DTSTART:20211112T130000Z
DTEND:20211113T020000Z
X-MICROSOFT-CDO-ALLDAYEVENT:FALSE
SUMMARY:Environment & Infrastructure Committee
DESCRIPTION:In 2017-2018\, the chamber's Environment\, Land Use and Energy Committee officially re branded and has become the Environment and Infrastructure Council. In addition to its traditional areas of focus\, the council is now also tasked with overseeing the chamber's efforts on transportation and infrastructure. This includes not only roads\, bridges\, rail and waterways\, but the electrical grid\, natural gas pipelines\, broadband and more. The council has also decided to focus on "economic resilience" by defending our members as best we can against the many threats that might face them\, from weather to cyber and beyond. The Environment and Infrastructure Council looks forward to a busy\, but productive future.\n\n \n\nThis committee is an open committee! If you would like more information on how you can get involved please contact Jeff Pugliese
X-ALT-DESC;FMTTYPE=text/html:In 2017-2018\, the chamber&rsquo\;s Environment\, Land Use and Energy Committee officially re branded and has become the Environment and Infrastructure Council. In addition to its traditional areas of focus\, the council is now also tasked with overseeing the chamber&rsquo\;s efforts on transportation and infrastructure. This includes not only roads\, bridges\, rail and waterways\, but the electrical grid\, natural gas pipelines\, broadband and more. The council has also decided to focus on &ldquo\;economic resilience&rdquo\; by defending our members as best we can against the many threats that might face them\, from weather to cyber and beyond. The Environment and Infrastructure Council looks forward to a busy\, but productive future.<br />\n&nbsp\;<br />\nThis committee is an open committee! If you would like more information on how you can get involved please contact Jeff Pugliese
LOCATION:via Zoom
UID:e.1932.20460
SEQUENCE:3
DTSTAMP:20260423T082357Z
URL:https://business.middlesexchamber.com/events/details/environment-infrastructure-committee-11-03-2021-20460
END:VEVENT

END:VCALENDAR
