BEGIN:VCALENDAR
VERSION:2.0
PRODID:-//ChamberMaster//Event Calendar 2.0//EN
METHOD:PUBLISH
X-PUBLISHED-TTL:P3D
REFRESH-INTERVAL:P3D
CALSCALE:GREGORIAN
BEGIN:VEVENT
DTSTART:20250909T123000Z
DTEND:20250909T133000Z
X-MICROSOFT-CDO-ALLDAYEVENT:FALSE
SUMMARY:Economic Development Consortium Steering Committee
DESCRIPTION:The Economic Development Consortium operates with a goal of promoting and supporting a robust and appropriate economic environment in the Middlesex Chamber footprint and in so doing\, grow and retain jobs\, businesses\, and capital investment within our region.\n\n\n\nThis group\, made up of local Economic Development Directors and representatives from each town meet on a monthly basis to share ideas\, collaborate\, and support one another through various projects that affect our region.
X-ALT-DESC;FMTTYPE=text/html:The Economic Development Consortium operates with a goal of promoting and supporting a robust and appropriate economic environment in the Middlesex Chamber footprint and in so doing\, grow and retain jobs\, businesses\, and capital investment within our region.<br />\n<br />\nThis group\, made up of local Economic Development Directors and representatives from each town meet on a monthly basis to share ideas\, collaborate\, and support one another through various projects that affect our region.<br />\n&nbsp\;
LOCATION:Chester Town Hall Community Room - 2nd Floor 203 Middlesex Avenue Chester\, CT
UID:e.1932.30380
SEQUENCE:3
DTSTAMP:20260424T224444Z
URL:https://business.middlesexchamber.com/events/details/economic-development-consortium-steering-committee-09-09-2025-30380
END:VEVENT

END:VCALENDAR
