BEGIN:VCALENDAR
VERSION:2.0
PRODID:-//ChamberMaster//Event Calendar 2.0//EN
METHOD:PUBLISH
X-PUBLISHED-TTL:P3D
REFRESH-INTERVAL:P3D
CALSCALE:GREGORIAN
BEGIN:VEVENT
DTSTART:20251218T130000Z
DTEND:20251218T140000Z
X-MICROSOFT-CDO-ALLDAYEVENT:FALSE
SUMMARY:East Haddam/Haddam/Killingworth Division
DESCRIPTION:The Chamber has nine geographically based divisions which meet on a monthly basis throughout Middlesex County. These divisions focus on local economic development issues and each meeting features an update from local municipal officials.\n\n\n\nTwice a year\, in November and March\, our monthly morning division meetings are held during the evening and feature appetizers and networking\, with the goal of creating new connections.\n\n\n\nThe East Haddam/Haddam/Killingworth Division occurs on the fourth Thursday of the month at different locations. This division does not meet in the Summer months of July and August.
X-ALT-DESC;FMTTYPE=text/html:The Chamber has nine geographically based divisions which meet on a monthly basis throughout Middlesex County. These divisions focus on local economic development issues and each meeting features an update from local municipal officials.<br />\n<br />\nTwice a year\, in November and March\, our monthly morning division meetings are held during the evening and feature appetizers and networking\, with the goal of creating new connections.<br />\n<br />\nThe East Haddam/Haddam/Killingworth Division occurs on the fourth Thursday of the month at different locations. This division does not meet in the Summer months of July and August.<br />\n&nbsp\;
LOCATION:Commonwealth Senior Living 1556 Saybrook Road Haddam\, CT 06438
UID:e.1932.30358
SEQUENCE:3
DTSTAMP:20260424T192243Z
URL:https://business.middlesexchamber.com/events/details/east-haddam-haddam-killingworth-division-12-25-2025-30358
END:VEVENT

END:VCALENDAR
