BEGIN:VCALENDAR
VERSION:2.0
PRODID:-//ChamberMaster//Event Calendar 2.0//EN
METHOD:PUBLISH
X-PUBLISHED-TTL:P3D
REFRESH-INTERVAL:P3D
CALSCALE:GREGORIAN
BEGIN:VEVENT
DTSTART:20251023T120000Z
DTEND:20251023T130000Z
X-MICROSOFT-CDO-ALLDAYEVENT:FALSE
SUMMARY:East Haddam/Haddam/Killingworth Division
DESCRIPTION:The Chamber has nine geographically based divisions which meet on a monthly basis throughout Middlesex County. These divisions focus on local economic development issues and each meeting features an update from local municipal officials.\n\n\n\nTwice a year\, in November and March\, our monthly morning division meetings are held during the evening and feature appetizers and networking\, with the goal of creating new connections.\n\n\n\nThe East Haddam/Haddam/Killingworth Division occurs on the fourth Thursday of the month at different locations. This division does not meet in the Summer months of July and August.\n\n\n\nOctober's meeting is dedicated to the annual Candidate Forum. The following candidates for First Selectman have been invited to participate:\n\n\n\nEast Haddam\n\nTanya Bourgoin (D)\n\nTodd Gelson (R)\n\n\n\nHaddam\n\nSean Donlan \n\n\n\nKillingworth\n\nEric Couture (D)\, incumbent\n\nJohn Samperi (R)\n\n\n\nThank you to the Town of Haddam for hosting the meeting.
X-ALT-DESC;FMTTYPE=text/html:The Chamber has nine geographically based divisions which meet on a monthly basis throughout Middlesex County. These divisions focus on local economic development issues and each meeting features an update from local municipal officials.<br />\n<br />\nTwice a year\, in November and March\, our monthly morning division meetings are held during the evening and feature appetizers and networking\, with the goal of creating new connections.<br />\n<br />\nThe East Haddam/Haddam/Killingworth Division occurs on the fourth Thursday of the month at different locations. This division does not meet in the Summer months of July and August.<br />\n<br />\nOctober&#39\;s meeting is dedicated to the annual Candidate Forum. The following candidates for First Selectman have been invited to participate:<br />\n<br />\n<strong>East Haddam</strong><br />\nTanya Bourgoin (D)<br />\nTodd Gelson (R)<br />\n<br />\n<strong>Haddam</strong><br />\nSean Donlan&nbsp\;<br />\n<br />\n<strong>Killingworth</strong><br />\nEric Couture (D)\, incumbent<br />\nJohn Samperi (R)<br />\n<br />\nThank you to the Town of Haddam for hosting the meeting.
LOCATION:Haddam Old Town Hall 21 Field Park Drive Haddam\, CT 06438
UID:e.1932.30356
SEQUENCE:3
DTSTAMP:20260424T213520Z
URL:https://business.middlesexchamber.com/events/details/east-haddam-haddam-killingworth-division-10-23-2025-30356
END:VEVENT

END:VCALENDAR
