BEGIN:VCALENDAR
VERSION:2.0
PRODID:-//ChamberMaster//Event Calendar 2.0//EN
METHOD:PUBLISH
X-PUBLISHED-TTL:P3D
REFRESH-INTERVAL:P3D
CALSCALE:GREGORIAN
BEGIN:VEVENT
DTSTART:20211117T130000Z
DTEND:20211117T140000Z
X-MICROSOFT-CDO-ALLDAYEVENT:FALSE
SUMMARY:East Haddam/Haddam Division
DESCRIPTION:The Middlesex Chamber will strive to keep communication open in all aspects. Join us for both open and themed discussions\, connecting our strong network of professionals. Open to all!\n\n \n\nMany Thanks to this Month's Host: \n\nThe Riverhouse at Goodspeed Station\n\n \n\n\n\nAbout The Riverhouse at Goodspeed Station\n\nOur award winning The Riverhouse at Goodspeed Station sits atop the banks of the Connecticut River across from the historic Goodspeed Opera House with the famous Haddam Swing Bridge in-between. Our gorgeous and private wedding venue promises you the very finest in food\, service and elegance that you and your guests will long remember.\n\n \n\nWhether your tastes gravitate towards a reception luncheon\, family-style\, a buffet of unique and exotic stations or a full plated sit-down dinner\, The Riverhouse assures your particular tastes in ambiance\, superb food and service will be exceeded.\n\n \n\nYour selection of flowers\, music\, lighting and other special personal and maybe whimsical favors\, paired with our award winning menu\, linens\, dinnerware\, wines\, liquors and wedding cake\, will seamlessly blend to create the wedding you have always dreamed of.\n\n \n\nWe will make every professional effort to reflect your personal vision of elegance and excellence. And while you are preparing for and enjoying your grand occasion\, the entire Riverhouse is yours alone.\n\n \n\nWith our expertise\, let us help you make this a day that lasts a lifetime.\n\n \n\nLike the day you've waited for\, The Riverhouse is one of a kind.
X-ALT-DESC;FMTTYPE=text/html:<span style="font-size:12.0pt\;">The Middlesex Chamber will strive to keep communication open in all aspects. Join us for both open and themed discussions\, connecting our strong network of professionals. Open to all!</span><br />\n&nbsp\;<br />\n<strong><span style="font-size:12.0pt\;">Many Thanks to this Month&rsquo\;s Host: </span><br />\n<span style="font-size:12.0pt\;">The Riverhouse at Goodspeed Station</span></strong><br />\n&nbsp\;<br />\n<br />\n<span style="font-size:12.0pt\;"><u><strong>About The Riverhouse at Goodspeed Station</strong></u><br />\nOur award winning The Riverhouse at Goodspeed Station sits atop the banks of the Connecticut River across from the historic Goodspeed Opera House with the famous Haddam Swing Bridge in-between. Our gorgeous and private wedding venue promises you the very finest in food\, service and elegance that you and your guests will long remember.</span><br />\n&nbsp\;<br />\n<span style="font-size:12.0pt\;">Whether your tastes gravitate towards a reception luncheon\, family-style\, a buffet of unique and exotic stations or a full plated sit-down dinner\, The Riverhouse assures your particular tastes in ambiance\, superb food and service will be exceeded.</span><br />\n&nbsp\;<br />\n<span style="font-size:12.0pt\;">Your selection of flowers\, music\, lighting and other special personal and maybe whimsical favors\, paired with our award winning menu\, linens\, dinnerware\, wines\, liquors and wedding cake\, will seamlessly blend to create the wedding you have always dreamed of.</span><br />\n&nbsp\;<br />\n<span style="font-size:12.0pt\;">We will make every professional effort to reflect your personal vision of elegance and excellence. And while you are preparing for and enjoying your grand occasion\, the entire Riverhouse is yours alone.</span><br />\n&nbsp\;<br />\n<span style="font-size:12.0pt\;">With our expertise\, let us help you make this a day that lasts a lifetime.</span><br />\n&nbsp\;<br />\n<span style="font-size:12.0pt\;">Like the day you&rsquo\;ve waited for\, The Riverhouse is one of a kind.</span><br />\n<br />\n<br />\n&nbsp\;
LOCATION:The Riverhouse at Goodspeed Station 55 Bridge Road Haddam\, CT
UID:e.1932.19504
SEQUENCE:3
DTSTAMP:20260421T084115Z
URL:https://business.middlesexchamber.com/events/details/east-haddam-haddam-division-11-25-2021-19504
END:VEVENT

END:VCALENDAR
