BEGIN:VCALENDAR
VERSION:2.0
PRODID:-//ChamberMaster//Event Calendar 2.0//EN
METHOD:PUBLISH
X-PUBLISHED-TTL:P3D
REFRESH-INTERVAL:P3D
CALSCALE:GREGORIAN
BEGIN:VEVENT
DTSTART:20230427T120000Z
DTEND:20230427T130000Z
X-MICROSOFT-CDO-ALLDAYEVENT:FALSE
SUMMARY:East Haddam/Haddam Division
DESCRIPTION:
X-ALT-DESC;FMTTYPE=text/html:
LOCATION:Blueway Commons 3 Brookes Court Haddam\, CT
UID:e.1932.24532
SEQUENCE:3
DTSTAMP:20260420T181502Z
URL:https://business.middlesexchamber.com/events/details/east-haddam-haddam-division-04-27-2023-24532
END:VEVENT

END:VCALENDAR
