BEGIN:VCALENDAR
VERSION:2.0
PRODID:-//ChamberMaster//Event Calendar 2.0//EN
METHOD:PUBLISH
X-PUBLISHED-TTL:P3D
REFRESH-INTERVAL:P3D
CALSCALE:GREGORIAN
BEGIN:VEVENT
DTSTART:20230429T150000Z
DTEND:20230430T190000Z
X-MICROSOFT-CDO-ALLDAYEVENT:FALSE
SUMMARY:Dutch Oil & Propane Car Wash
DESCRIPTION:Dutch Oil & Propane is sponsoring the location for the Hale Ray High School Girls Varsity Softball team Car Wash\, April 29th! Come out 11-3 and support the team to raise money for an out of state tournament and warm up jerseys! Come get your car or truck washed for a great cause. Make sure to tell all your friends!
X-ALT-DESC;FMTTYPE=text/html:<br />\n<br />\nDutch Oil &amp\; Propane is sponsoring the location for the Hale Ray High School Girls Varsity Softball team Car Wash\, April 29th! Come out 11-3 and support the team to raise money for an out of state tournament and warm up jerseys!&nbsp\;Come get your car or truck washed for a great cause. Make sure to tell all your friends!<br />\n<br />\n&nbsp\;
LOCATION:Dutch Oil & Propane 35 William F. Palmer Road Moodus\, CT 06469
UID:e.1932.25207
SEQUENCE:3
DTSTAMP:20260420T153404Z
URL:https://business.middlesexchamber.com/events/details/dutch-oil-propane-car-wash-25207
END:VEVENT

END:VCALENDAR
