BEGIN:VCALENDAR
VERSION:2.0
PRODID:-//ChamberMaster//Event Calendar 2.0//EN
METHOD:PUBLISH
X-PUBLISHED-TTL:P3D
REFRESH-INTERVAL:P3D
CALSCALE:GREGORIAN
BEGIN:VEVENT
DTSTART:20181010T120000Z
DTEND:20181010T130000Z
X-MICROSOFT-CDO-ALLDAYEVENT:FALSE
SUMMARY:Durham/Middlefield Division
DESCRIPTION:Program: Candidates for Legislative Office
X-ALT-DESC;FMTTYPE=text/html:<br />\nProgram: Candidates for Legislative Office
LOCATION:Lyman Orchards Golf Club 70 Lyman Road Middlefield\, CT
UID:e.1932.7736
SEQUENCE:3
DTSTAMP:20260421T095357Z
URL:https://business.middlesexchamber.com/events/details/durham-middlefield-division-7736
END:VEVENT

END:VCALENDAR
