BEGIN:VCALENDAR
VERSION:2.0
PRODID:-//ChamberMaster//Event Calendar 2.0//EN
METHOD:PUBLISH
X-PUBLISHED-TTL:P3D
REFRESH-INTERVAL:P3D
CALSCALE:GREGORIAN
BEGIN:VEVENT
DTSTART:20171108T130000Z
DTEND:20171108T140000Z
X-MICROSOFT-CDO-ALLDAYEVENT:FALSE
SUMMARY:Durham/Middlefield Division
DESCRIPTION:Program: MEWS+ Update
X-ALT-DESC;FMTTYPE=text/html:<p><br />\nProgram: MEWS+ Update</p>\n
LOCATION:A Second Chance CPR & First Aid Training 57 Ozick Drive\, Unit G Durham\, CT
UID:e.1932.4518
SEQUENCE:3
DTSTAMP:20260422T170036Z
URL:https://business.middlesexchamber.com/events/details/durham-middlefield-division-4518
END:VEVENT

END:VCALENDAR
