BEGIN:VCALENDAR
VERSION:2.0
PRODID:-//ChamberMaster//Event Calendar 2.0//EN
METHOD:PUBLISH
X-PUBLISHED-TTL:P3D
REFRESH-INTERVAL:P3D
CALSCALE:GREGORIAN
BEGIN:VEVENT
DTSTART:20171018T120000Z
DTEND:20171018T130000Z
X-MICROSOFT-CDO-ALLDAYEVENT:FALSE
SUMMARY:Durham/Middlefield Division
DESCRIPTION:
X-ALT-DESC;FMTTYPE=text/html:
LOCATION:Lyman Homestead 3 Lyman Road Middlefield\, CT
UID:e.1932.4515
SEQUENCE:3
DTSTAMP:20260423T200145Z
URL:https://business.middlesexchamber.com/events/details/durham-middlefield-division-4515
END:VEVENT

END:VCALENDAR
