BEGIN:VCALENDAR
VERSION:2.0
PRODID:-//ChamberMaster//Event Calendar 2.0//EN
METHOD:PUBLISH
X-PUBLISHED-TTL:P3D
REFRESH-INTERVAL:P3D
CALSCALE:GREGORIAN
BEGIN:VEVENT
DTSTART:20251210T130000Z
DTEND:20251210T140000Z
X-MICROSOFT-CDO-ALLDAYEVENT:FALSE
SUMMARY:Durham/Middlefield Division
DESCRIPTION:The Chamber has nine geographically based divisions which meet on a monthly basis throughout Middlesex County. These divisions focus on local economic development issues and each meeting features an update from local municipal officials. \n\n\n\nMeetings occur on the second Wednesday of the month at different locations. This division does not meet in the Summer months of July and August.\n\n\n\nThe host for this meeting is TSG located at 422 Main Street\, Durham\, CT. Torrison Stone & Garden offers complete outdoor solutions through their integrated Stone\, Garden\, and Design services. They understand that when homeowners begin thinking about upgrading their outdoor spaces\, the process can feel overwhelming. That's why their team works closely with each client to clarify the scope of the project starting with how the space will be used and what fits within the budget. The Chamber would like to thank the entire team at TSG for hosting our meeting.\n\n\n\nAgenda\n\n \n\nI. Welcome and Introductions\n\n	Introductions from the division chair/s\n	Round Robin introduction from members attending \n\nII. Remarks\n\n\n	Host remarks and information\n	Town updates from department heads attending\n	Speaker remarks and information\n\nIII. Closing Remarks and Chamber Updates\n\n\n	Chamber updates from Chamber representative attending
X-ALT-DESC;FMTTYPE=text/html:The Chamber has nine geographically based divisions which meet on a monthly basis throughout Middlesex County. These divisions focus on local economic development issues and each meeting features an update from local municipal officials.&nbsp\;<br />\n<br />\nMeetings occur on the second Wednesday of the month at different locations. This division does not meet in the Summer months of July and August.<br />\n<br />\nThe host for this meeting is TSG located at 422 Main Street\, Durham\, CT. Torrison Stone &amp\; Garden offers complete outdoor solutions through their integrated Stone\, Garden\, and Design services. They understand that when homeowners begin thinking about upgrading their outdoor spaces\, the process can feel overwhelming. That&rsquo\;s why their team works closely with each client to clarify the scope of the project&mdash\;starting with how the space will be used and what fits within the budget. The Chamber would like to thank the entire team at TSG for hosting our meeting.<br />\n<br />\nAgenda<br />\n&nbsp\;<br />\nI. Welcome and Introductions\n<ul>\n	<li>Introductions from the division chair/s</li>\n	<li>Round Robin introduction from members attending&nbsp\;</li>\n</ul>\nII. Remarks\n\n<ul>\n	<li>Host remarks and information</li>\n	<li>Town updates from department heads attending</li>\n	<li>Speaker remarks and information</li>\n</ul>\nIII. Closing Remarks and Chamber Updates\n\n<ul>\n	<li>Chamber updates from Chamber representative attending</li>\n</ul>\n
LOCATION:TSG (Torrison Stone & Garden) 422 Main Street Durham\, CT
UID:e.1932.30321
SEQUENCE:3
DTSTAMP:20260424T192045Z
URL:https://business.middlesexchamber.com/events/details/durham-middlefield-division-12-10-2025-30321
END:VEVENT

END:VCALENDAR
