BEGIN:VCALENDAR
VERSION:2.0
PRODID:-//ChamberMaster//Event Calendar 2.0//EN
METHOD:PUBLISH
X-PUBLISHED-TTL:P3D
REFRESH-INTERVAL:P3D
CALSCALE:GREGORIAN
BEGIN:VEVENT
DTSTART:20211110T130000Z
DTEND:20211110T140000Z
X-MICROSOFT-CDO-ALLDAYEVENT:FALSE
SUMMARY:Durham/Middlefield Division
DESCRIPTION:The Middlesex Chamber will strive to keep communication open in all aspects.  Join us for both open and themed discussions\, connecting our strong network of professionals. Open to all!\n\n \n\nMany Thanks to this Month's Host:\n\nFire at the Ridge Restaurant & Tavern
X-ALT-DESC;FMTTYPE=text/html:<span style="font-size:12.0pt\;">The Middlesex Chamber will strive to keep communication open in all aspects.&nbsp\; Join us for both open and themed discussions\, connecting our strong network of professionals. Open to all!</span><br />\n&nbsp\;<br />\n<strong><span style="font-size:12.0pt\;">Many Thanks to this Month&rsquo\;s Host:</span><br />\n<span style="font-size:12.0pt\;">Fire at the Ridge Restaurant &amp\; Tavern</span></strong>
LOCATION:Fire at the Ridge Restaurant & Tavern Located at Powder Ridge Mountain Park & Resort 99 Powder Hill Road Middlefield\, CT
UID:e.1932.19423
SEQUENCE:3
DTSTAMP:20260421T095033Z
URL:https://business.middlesexchamber.com/events/details/durham-middlefield-division-11-10-2021-19423
END:VEVENT

END:VCALENDAR
