BEGIN:VCALENDAR
VERSION:2.0
PRODID:-//ChamberMaster//Event Calendar 2.0//EN
METHOD:PUBLISH
X-PUBLISHED-TTL:P3D
REFRESH-INTERVAL:P3D
CALSCALE:GREGORIAN
BEGIN:VEVENT
DTSTART:20201014T120000Z
DTEND:20201014T130000Z
X-MICROSOFT-CDO-ALLDAYEVENT:FALSE
SUMMARY:Durham/Middlefield Division
DESCRIPTION:Candidate Forums\n\n\n\nDear Valued Chamber Member:\n\n \n\nI am writing today to invite you to participate in the Middlesex County Chamber of Commerce Division Candidate Forums that will be held throughout the month of October. As you know\, the chamber's divisions are spread out throughout Middlesex County. They almost function as sub-chambers and focus on issues of importance to the local business community in those member towns. This year\, due to COVID-19\, these forums are being held through zoom.\n\n \n\nThese are not debates\, but forums that are designed to connect the candidates to the business community in Middlesex County. Candidates will have the opportunity to introduce themselves and talk about their campaign. We usually limit this portion of the meeting to 3-5 minutes depending on how many candidates attend. The chamber members in the virtual audience will then have the opportunity to ask questions of the candidates about important business issues or anything else they deem relevant. All candidates for Senate and House seats that represent these towns are invited to attend.\n\n\n\nThe Following Candidates Have Been Invited\n\n\n\nState Senate\n\nDistrict 12:  Branford\, Durham\, Guilford\, Killingworth\, Madison\, North Branford\n\n\n	Christine Cohen - Democrat - Incumbent\n	Joseph LaPorta - Republican - Candidate\n\n District 13:  Cheshire\, Meriden\, Middlefield\, Middletown\n\n\n	Mary Daugherty Abrams - Democrat - Incumbent\n	Len Suzio - Republican - Candidate\n\nDistrict 34:  Durham\, East Haven\, North Haven\, Wallingford\n\n\n	April Capone - Democrat - Candidate\n	Paul Cicarella - Republican - Candidate\n\n House of Representatives\n\nDistrict 82:  Meriden\, Middlefield\n\n\n	Michael Quinn - Democrat - Candidate\n	Mike Skelps - Republican - Candidate\n	Ernestine Holloway - Independent - Candidate\n\nDistrict 86:  Durham\, Guilford\, North Branford\, Wallingford\n\n\n	Vince Mase - Democrat - Candidate\n	Vincent Candelora - Republican - Incumbent\n\nDistrict 101:  Durham\, Madison\n\n\n	John- Michael Parker - Democrat - Candidate\n	Noreen Kokoruda - Republican - Incumbent\n\nPlease join us for a meeting of the Chamber's Durham & Middlefield Division on October 14\, 2020 at 8:00 a.m.\n\n\n\nPlease register above\n\nWe are really hoping to have a strong turnout of chamber members for these important forums. Let us know if you have any questions or concerns. \n\n\n\nThank you.
X-ALT-DESC;FMTTYPE=text/html:<p font-size:="" style="color: rgb(51\, 51\, 51)\; font-family: sans-serif\, Arial\, Verdana\, " trebuchet=""><span font-size:="" style="box-sizing: border-box\; font-weight: bolder\; background-color: rgb(243\, 243\, 243)\;" trebuchet=""><em style="box-sizing: border-box\;"><span style="box-sizing: border-box\; background: white\;"><span style="box-sizing: border-box\; font-family: arial\, sans-serif\;"><span style="box-sizing: border-box\; font-size: 15pt\;">Candidate Forums</span></span></span></em></span><br font-size:="" style="box-sizing: border-box\; background-color: rgb(243\, 243\, 243)\;" trebuchet="" />\n<br font-size:="" style="box-sizing: border-box\; background-color: rgb(243\, 243\, 243)\;" trebuchet="" />\n<span font-size:="" style="box-sizing: border-box\; outline: 0px\; background-color: rgb(243\, 243\, 243)\;" trebuchet=""><span style="box-sizing: border-box\; outline: 0px\; font-family: arial\, sans-serif\;"><span style="box-sizing: border-box\; outline: 0px\; font-size: 10pt\;"><span style="box-sizing: border-box\; background: white\;">Dear Valued Chamber Member:</span><br style="box-sizing: border-box\;" />\n&nbsp\;<br style="box-sizing: border-box\;" />\n<span style="box-sizing: border-box\; background: white\;">I am writing today to invite you to participate in the Middlesex County Chamber of Commerce Division Candidate Forums that will be held throughout the month of October. As you know\, the chamber&rsquo\;s divisions are spread out throughout Middlesex County. They almost function as sub-chambers and focus on issues of importance to the local business community in those member towns. This year\, due to COVID-19\, these forums are being held through zoom.</span><br style="box-sizing: border-box\;" />\n&nbsp\;<br style="box-sizing: border-box\;" />\n<span style="box-sizing: border-box\; outline: 0px\; background: white\;">These are not debates\, but forums that are designed to connect the candidates to the business community in Middlesex County. Candidates will have the opportunity to introduce themselves and talk about their campaign. We usually limit this portion of the meeting to 3-5 minutes depending on how many candidates attend. The chamber members in the virtual audience will then have the opportunity to ask questions of the candidates about important business issues or anything else they deem relevant. All candidates for Senate and House seats that represent these towns are invited to attend.</span><br />\n<br />\n<u><em><strong><span style="font-size: 16px\;">The Following Candidates Have Been Invited</span></strong></em></u><br />\n<br />\n<strong><span style="font-size: 16px\;"><em><u><span style="font-size: 14px\;"><span style="font-size: 16px\;">State Senate</span><br />\nDistrict 12:&nbsp\; Branford\, Durham\, Guilford\, Killingworth\, Madison\, North Branford</span></u></em></span></strong></span></span></span></p>\n\n<ul font-size:="" style="padding: 0px 40px\; color: rgb(51\, 51\, 51)\; font-family: sans-serif\, Arial\, Verdana\, " trebuchet="">\n	<li><span style="font-size: 16px\;"><span style="font-size: 14px\;">Christine Cohen - Democrat - Incumbent</span></span></li>\n	<li><span style="font-size: 16px\;"><span style="font-size: 14px\;">Joseph LaPorta - Republican - Candidate</span></span></li>\n</ul>\n<u font-size:="" style="color: rgb(51\, 51\, 51)\; font-family: sans-serif\, Arial\, Verdana\, " trebuchet=""><em><strong><span style="font-size: 16px\;"><span style="font-size: 14px\;">&#8203\;District 13:&nbsp\; Cheshire\, Meriden\, Middlefield\, Middletown</span></span></strong></em></u>\n\n<ul font-size:="" style="padding: 0px 40px\; color: rgb(51\, 51\, 51)\; font-family: sans-serif\, Arial\, Verdana\, " trebuchet="">\n	<li><span style="font-size: 16px\;"><span style="font-size: 14px\;">Mary Daugherty Abrams - Democrat - Incumbent</span></span></li>\n	<li><span style="font-size: 16px\;"><span style="font-size: 14px\;">Len Suzio - Republican - Candidate</span></span></li>\n</ul>\n<span font-size:="" style="color: rgb(51\, 51\, 51)\; font-family: sans-serif\, Arial\, Verdana\, " trebuchet=""><strong><em><u>District 34:&nbsp\; Durham\, East Haven\, North Haven\, Wallingford</u></em></strong></span>\n\n<ul font-size:="" style="padding: 0px 40px\; color: rgb(51\, 51\, 51)\; font-family: sans-serif\, Arial\, Verdana\, " trebuchet="">\n	<li><span style="font-size: 14px\;">April Capone - Democrat - Candidate</span></li>\n	<li><span style="font-size: 14px\;">Paul Cicarella - Republican - Candidate</span></li>\n</ul>\n<span style="font-size:16px\;"><span font-size:="" style="color: rgb(51\, 51\, 51)\; font-family: sans-serif\, Arial\, Verdana\, " trebuchet=""><u><em><strong>&#8203\;House of Representatives</strong></em></u></span></span>\n\n<p font-size:="" style="color: rgb(51\, 51\, 51)\; font-family: sans-serif\, Arial\, Verdana\, " trebuchet=""><span font-size:="" style="box-sizing: border-box\; outline: 0px\; background-color: rgb(243\, 243\, 243)\;" trebuchet=""><span style="box-sizing: border-box\; outline: 0px\; font-family: arial\, sans-serif\;"><span style="box-sizing: border-box\; outline: 0px\; font-size: 10pt\;"><u><em><strong><span style="font-size: 14px\;">District 82:&nbsp\; Meriden\, Middlefield</span></strong></em></u></span></span></span></p>\n\n<ul font-size:="" style="padding: 0px 40px\; color: rgb(51\, 51\, 51)\; font-family: sans-serif\, Arial\, Verdana\, " trebuchet="">\n	<li>Michael Quinn - Democrat - Candidate</li>\n	<li>Mike Skelps - Republican - Candidate</li>\n	<li>Ernestine Holloway - Independent - Candidate</li>\n</ul>\n<span style="font-size:14px\;"><span font-size:="" style="color: rgb(51\, 51\, 51)\; font-family: sans-serif\, Arial\, Verdana\, " trebuchet=""><u><em><strong>District 86:&nbsp\; Durham\, Guilford\, North Branford\, Wallingford</strong></em></u></span></span>\n\n<ul font-size:="" style="padding: 0px 40px\; color: rgb(51\, 51\, 51)\; font-family: sans-serif\, Arial\, Verdana\, " trebuchet="">\n	<li>Vince Mase - Democrat - Candidate</li>\n	<li>Vincent Candelora - Republican - Incumbent</li>\n</ul>\n<span style="font-size:14px\;"><span font-size:="" style="color: rgb(51\, 51\, 51)\; font-family: sans-serif\, Arial\, Verdana\, " trebuchet=""><u><em><strong>District 101:&nbsp\; Durham\, Madison</strong></em></u></span></span>\n\n<ul font-size:="" style="padding: 0px 40px\; color: rgb(51\, 51\, 51)\; font-family: sans-serif\, Arial\, Verdana\, " trebuchet="">\n	<li>John- Michael Parker - Democrat - Candidate</li>\n	<li>Noreen Kokoruda - Republican - Incumbent</li>\n</ul>\n<span background-color:="" box-sizing:="" font-size:="" outline:="" style="color: rgb(51\, 51\, 51)\; font-family: sans-serif\, Arial\, Verdana\, " trebuchet=""><span style="box-sizing: border-box\; outline: 0px\; font-family: arial\, sans-serif\;"><span style="box-sizing: border-box\; outline: 0px\; font-size: 10pt\;"><span style="box-sizing: border-box\; background: white\;">Please join us for a meeting of the Chamber&rsquo\;s Durham &amp\; Middlefield Division on&nbsp\;</span></span></span></span><span style="color: rgb(51\, 51\, 51)\; font-size: 10pt\; font-family: arial\, sans-serif\;">October 14\, 2020 at 8:00 a.m.<br />\n<br />\nPlease register above</span>\n\n<p font-size:="" style="color: rgb(51\, 51\, 51)\; font-family: sans-serif\, Arial\, Verdana\, " trebuchet=""><span font-size:="" style="box-sizing: border-box\; outline: 0px\; background-color: rgb(243\, 243\, 243)\;" trebuchet=""><span style="box-sizing: border-box\; outline: 0px\; font-family: arial\, sans-serif\;"><span style="box-sizing: border-box\; outline: 0px\; font-size: 10pt\;"><span style="box-sizing: border-box\; background: white\;">We are really hoping to have a strong turnout of chamber members for these important forums. Let us&nbsp\;know if you have any questions or concerns.&nbsp\;<br />\n<br />\nThank you.</span></span></span></span></p>\n
LOCATION:Meeting will be conducted via Zoom. Dial in by phone or join with your computer.
UID:e.1932.19410
SEQUENCE:3
DTSTAMP:20260421T033156Z
URL:https://business.middlesexchamber.com/events/details/durham-middlefield-division-10-14-2020-19410
END:VEVENT

END:VCALENDAR
