BEGIN:VCALENDAR
VERSION:2.0
PRODID:-//ChamberMaster//Event Calendar 2.0//EN
METHOD:PUBLISH
X-PUBLISHED-TTL:P3D
REFRESH-INTERVAL:P3D
CALSCALE:GREGORIAN
BEGIN:VEVENT
DTSTART:20251008T120000Z
DTEND:20251008T130000Z
X-MICROSOFT-CDO-ALLDAYEVENT:FALSE
SUMMARY:Durham/Middlefield Division
DESCRIPTION:The Chamber has nine geographically based divisions which meet on a monthly basis throughout Middlesex County. These divisions focus on local economic development issues and each meeting features an update from local municipal officials.\n\n\n\nTwice a year\, in November and March\, our monthly morning division meetings are held during the evening and feature appetizers and networking\, with the goal of creating new connections.\n\n\n\nThe Durham/Middlefield Division occurs on the second Wednesday of the month at different locations. This division does not meet in the Summer months of July and August.\n\n\n\nAgenda\n\n\n\nI. Welcome and Introductions\n\n	Introductions from the division chair/s\n	Round Robin introduction from members attending\n\nII. Remarks\n\n\n	Host remarks and information\n	Town updates from department heads attending\n	Speaker remarks and information\n\nIII. Closing Remarks and Chamber Updates\n\n\n	Chamber updates from Chamber representative attending
X-ALT-DESC;FMTTYPE=text/html:The Chamber has nine geographically based divisions which meet on a monthly basis throughout Middlesex County. These divisions focus on local economic development issues and each meeting features an update from local municipal officials.<br />\n<br />\nTwice a year\, in November and March\, our monthly morning division meetings are held during the evening and feature appetizers and networking\, with the goal of creating new connections.<br />\n<br />\nThe Durham/Middlefield Division occurs on the second Wednesday of the month at different locations. This division does not meet in the Summer months of July and August.<br />\n<br />\nAgenda<br />\n<br />\n<strong>I. Welcome and Introductions</strong>\n<ul>\n	<li>Introductions from the division chair/s</li>\n	<li>Round Robin introduction from members attending</li>\n</ul>\n<strong>II. Remarks</strong>\n\n<ul>\n	<li>Host remarks and information</li>\n	<li>Town updates from department heads attending</li>\n	<li>Speaker remarks and information</li>\n</ul>\n<strong>III. Closing Remarks and Chamber Updates</strong>\n\n<ul>\n	<li>Chamber updates from Chamber representative attending</li>\n</ul>\n
LOCATION:Durham Community Center 144 Pickett Lane Durham\, CT 06422
UID:e.1932.30319
SEQUENCE:3
DTSTAMP:20260424T213240Z
URL:https://business.middlesexchamber.com/events/details/durham-middlefield-division-10-08-2025-30319
END:VEVENT

END:VCALENDAR
