BEGIN:VCALENDAR
VERSION:2.0
PRODID:-//ChamberMaster//Event Calendar 2.0//EN
METHOD:PUBLISH
X-PUBLISHED-TTL:P3D
REFRESH-INTERVAL:P3D
CALSCALE:GREGORIAN
BEGIN:VEVENT
DTSTART:20250910T120000Z
DTEND:20250910T130000Z
X-MICROSOFT-CDO-ALLDAYEVENT:FALSE
SUMMARY:Durham/Middlefield Division
DESCRIPTION:The Chamber has nine geographically based divisions which meet on a monthly basis throughout Middlesex County. These divisions focus on local economic development issues and each meeting features an update from local municipal officials. Twice a year\, in November and March\, our monthly morning division meetings are held during the evening and feature appetizers and networking\, with the goal of creating new connections.\n\n\n\nMeetings occur on the second Wednesday of the month at different locations. This division does not meet in the Summer months of July and August.\n\n\n\nThe host for this meeting will be our good friends at the Durham Fair located in the public safety building on Canfield Lane\, Durham\, CT. Please see the map below for the building location. \n\n\n\nThank you to Debbie Huscher and the entire Durham Fair team for hosting. Make sure to get your tickets for the fair TODAY! Tickets can be purchased from the Durham Fair website located HERE. See you there!\n\n\n\nAGENDA\n\n \n\nI. Welcome and Introductions\n\n	Introductions from the division chair/s\n	Round Robin introduction from members attending \n\nII. Remarks\n\n\n	Host remarks and information\n	Town updates from department heads attending\n\nIII. Closing Remarks and Chamber Updates\n\n\n	Chamber updates from Chamber representative attending
X-ALT-DESC;FMTTYPE=text/html:The Chamber has nine geographically based divisions which meet on a monthly basis throughout Middlesex County. These divisions focus on local economic development issues and each meeting features an update from local municipal officials. Twice a year\, in November and March\, our monthly morning division meetings are held during the evening and feature appetizers and networking\, with the goal of creating new connections.<br />\n<br />\nMeetings occur on the second Wednesday of the month at different locations. This division does not meet in the Summer months of July and August.<br />\n<br />\nThe host for this meeting will be our good friends at the Durham Fair located in the public safety building on Canfield Lane\, Durham\, CT. Please see the map below for the building location.&nbsp\;<br />\n<br />\nThank you to Debbie Huscher and the entire Durham Fair team for hosting. Make sure to get your tickets for the fair TODAY! Tickets can be purchased from the Durham Fair website located <strong><a href="https://www.durhamfair.com/info/admission">HERE</a></strong>. See you there!<br />\n<br />\nAGENDA<br />\n&nbsp\;<br />\nI. Welcome and Introductions\n<ul>\n	<li>Introductions from the division chair/s</li>\n	<li>Round Robin introduction from members attending&nbsp\;</li>\n</ul>\nII. Remarks\n\n<ul>\n	<li>Host remarks and information</li>\n	<li>Town updates from department heads attending</li>\n</ul>\nIII. Closing Remarks and Chamber Updates\n\n<ul>\n	<li>Chamber updates from Chamber representative attending</li>\n</ul>\n
LOCATION:Durham Fair Public Safety Building Canfield Ln Durham\, CT
UID:e.1932.30318
SEQUENCE:3
DTSTAMP:20260424T224240Z
URL:https://business.middlesexchamber.com/events/details/durham-middlefield-division-09-10-2025-30318
END:VEVENT

END:VCALENDAR
