BEGIN:VCALENDAR
VERSION:2.0
PRODID:-//ChamberMaster//Event Calendar 2.0//EN
METHOD:PUBLISH
X-PUBLISHED-TTL:P3D
REFRESH-INTERVAL:P3D
CALSCALE:GREGORIAN
BEGIN:VEVENT
DTSTART:20260513T120000Z
DTEND:20260513T130000Z
X-MICROSOFT-CDO-ALLDAYEVENT:FALSE
SUMMARY:Durham/Middlefield Division
DESCRIPTION:The Chamber has eight geographically based divisions which meet on a monthly basis throughout Middlesex County. These divisions focus on local economic development issues and each meeting features an update from local municipal officials. \n\n\n\nDurham/Middlefield Division occurs on the second Wednesday of the month (unless otherwise noted) at different locations. This division does not meet in the Summer months of July and August. Twice a year\, in November and March\, our monthly morning meetings are held during the evening and feature appetizers and networking\, with the goal of creating new connections. These events are called Division After Dark.
X-ALT-DESC;FMTTYPE=text/html:The Chamber has eight geographically based divisions which meet on a monthly basis throughout Middlesex County. These divisions focus on local economic development issues and each meeting features an update from local municipal officials.&nbsp\;<br />\n<br />\nDurham/Middlefield Division occurs on the second Wednesday of the month (unless otherwise noted) at different locations. This division does not meet in the Summer months of July and August. Twice a year\, in November and March\, our monthly morning meetings are held during the evening and feature appetizers and networking\, with the goal of creating new connections. These events are called Division After Dark.
LOCATION:
UID:e.1932.34527
SEQUENCE:3
DTSTAMP:20260424T142934Z
URL:https://business.middlesexchamber.com/events/details/durham-middlefield-division-05-13-2026-34527
END:VEVENT

END:VCALENDAR
