BEGIN:VCALENDAR
VERSION:2.0
PRODID:-//ChamberMaster//Event Calendar 2.0//EN
METHOD:PUBLISH
X-PUBLISHED-TTL:P3D
REFRESH-INTERVAL:P3D
CALSCALE:GREGORIAN
BEGIN:VEVENT
DTSTART:20230412T120000Z
DTEND:20230412T130000Z
X-MICROSOFT-CDO-ALLDAYEVENT:FALSE
SUMMARY:Durham/Middlefield Division
DESCRIPTION:AGENDA\n\n \n\nI. Welcome and Introductions\n\na. Introductions from the division chair/s\n\n \n\nII. Host Remarks\n\na. Town updates from department heads attending\n\n \n\nIII. Closing Remarks and Chamber Updates\n\na. Chamber updates from Chamber representative attending
X-ALT-DESC;FMTTYPE=text/html:<div><u><strong>AGENDA</strong></u><br />\n&nbsp\;</div>\n\n<div><strong>I.<span style="white-space: pre\;"> </span>Welcome and Introductions</strong></div>\n\n<div>a. Introductions from the division chair/s</div>\n\n<div>&nbsp\;</div>\n\n<div><strong>II.<span style="white-space: pre\;"> </span>Host Remarks</strong></div>\n\n<div>a. Town updates from department heads attending</div>\n\n<div>&nbsp\;</div>\n\n<div><strong>III.<span style="white-space: pre\;"> </span>Closing Remarks and Chamber Updates</strong></div>\n\n<div>a. Chamber updates from Chamber representative attending</div>\n
LOCATION:Victory Church 191 Meriden Rd\, Middlefield\, CT 06455
UID:e.1932.24090
SEQUENCE:3
DTSTAMP:20260420T192453Z
URL:https://business.middlesexchamber.com/events/details/durham-middlefield-division-04-12-2023-24090
END:VEVENT

END:VCALENDAR
