BEGIN:VCALENDAR
VERSION:2.0
PRODID:-//ChamberMaster//Event Calendar 2.0//EN
METHOD:PUBLISH
X-PUBLISHED-TTL:P3D
REFRESH-INTERVAL:P3D
CALSCALE:GREGORIAN
BEGIN:VEVENT
DTSTART:20230211T010000Z
DTEND:20230211T030000Z
X-MICROSOFT-CDO-ALLDAYEVENT:FALSE
SUMMARY:Dueling Pianos
DESCRIPTION:Dueling Pianos by Savage Piano Troupe. Join us at Madison Beach Hotel for a engaging and fantastically fun evening! **Back by Popular Demand** Join us for a fantastic evening of dueling pianos featuring the talent from Savage Pianos. This troupe joins us from New York City...they play at a variety of restaurants throughout the Northeast and we are bringing them to Madison! The audience creates the playlist and the pianists make it come alive - they're funny\, spontaneous\, creative and super talented!\n\n\n\nThis event will take place in our waterfront ballroom on the second floor of the hotel. THREE TICKETING OPTIONS RESERVED TABLE FOR TEN: $350 per table\, excluding EventBrite Fees\, provides guaranteed reserved seating for 10 people. DINNER AND A SHOW TICKETS: $190* per COUPLE\, excluding EventBrite Fees\, provides dinner for two in The WHARF prior to the show AND two tickets to the show. Prix Fixe Menu - View Menu Below. Restaurant Reservations available starting at 5 p.m. Our team will call you directly to confirm your desired seating time. Ticket Pricing includes gratuity and sales tax. General Admission $40 per person\, excluding EventBrite Fees\, includes admission to Dueling Pianos. No assigned seating\, all seating is communal at shared tables. Doors open at 7:30 p.m. | Cash Bar opens at 7:30 p.m. Dueling Pianos will start at 8 p.m. and entertain until 11 p.m. Cash Bar | 21+ Event Small Bites will be available to purchase at the Bar.\n\n\n\nDINNER AND A SHOW PRIX FIXE MENU 1st Course: New England Clam Chowder Greek Salad \, romaine\, cucumber\, olives\, roasted pepper\, boursin polenta croutons\, classic vinaigrette 2nd Course 2 Slow Braised Short Ribs\, yukon mashed potatoes\, roasted heirloom carrots\, gremolata Cedar Plank Salmon\, maple-citrus glaze\, roasted heirloom carrots\, red bliss mashed potatoes Butternut squash Ravioli\, brown butter sage sauce\, toasted pine nuts 3rd Course Seasonal Cheesecake\n\n\n\nPARKING: Limited self public parking at the Shore. Free valet parking available. DINNER RESERVATIONS: Call ahead to secure dinner before the show. Reserve online at www.TheWharfMadison.com MAKE IT A WEEKEND: Join us for the weekend. Overnight Reservations available www.madisonbeachhotel.curiocollection.com
X-ALT-DESC;FMTTYPE=text/html:Dueling Pianos by Savage Piano Troupe. Join us at Madison Beach Hotel for a engaging and fantastically fun evening! **Back by Popular Demand** Join us for a fantastic evening of dueling pianos featuring the talent from Savage Pianos. This troupe joins us from New York City...they play at a variety of restaurants throughout the Northeast and we are bringing them to Madison! The audience creates the playlist and the pianists make it come alive - they&#39\;re funny\, spontaneous\, creative and super talented!<br />\n<br />\nThis event will take place in our waterfront ballroom on the second floor of the hotel. THREE TICKETING OPTIONS RESERVED TABLE FOR TEN: $350 per table\, excluding EventBrite Fees\, provides guaranteed reserved seating for 10 people. DINNER AND A SHOW TICKETS: $190* per COUPLE\, excluding EventBrite Fees\, provides dinner for two in The WHARF prior to the show AND two tickets to the show. Prix Fixe Menu - View Menu Below. Restaurant Reservations available starting at 5 p.m. Our team will call you directly to confirm your desired seating time. Ticket Pricing includes gratuity and sales tax. General Admission $40 per person\, excluding EventBrite Fees\, includes admission to Dueling Pianos. No assigned seating\, all seating is communal at shared tables. Doors open at 7:30 p.m. | Cash Bar opens at 7:30 p.m. Dueling Pianos will start at 8 p.m. and entertain until 11 p.m. Cash Bar | 21+ Event Small Bites will be available to purchase at the Bar.<br />\n<br />\nDINNER AND A SHOW PRIX FIXE MENU 1st Course: New England Clam Chowder Greek Salad \, romaine\, cucumber\, olives\, roasted pepper\, boursin polenta croutons\, classic vinaigrette 2nd Course 2 Slow Braised Short Ribs\, yukon mashed potatoes\, roasted heirloom carrots\, gremolata Cedar Plank Salmon\, maple-citrus glaze\, roasted heirloom carrots\, red bliss mashed potatoes Butternut squash Ravioli\, brown butter sage sauce\, toasted pine nuts 3rd Course Seasonal Cheesecake<br />\n<br />\nPARKING: Limited self public parking at the Shore. Free valet parking available. DINNER RESERVATIONS: Call ahead to secure dinner before the show. Reserve online at www.TheWharfMadison.com MAKE IT A WEEKEND: Join us for the weekend. Overnight Reservations available www.madisonbeachhotel.curiocollection.com
LOCATION:Madison Beach Hotel 94 W Wharf Rd\, Madison CT 06443
UID:e.1932.24742
SEQUENCE:3
DTSTAMP:20260420T181221Z
URL:https://business.middlesexchamber.com/events/details/dueling-pianos-24742
END:VEVENT

END:VCALENDAR
