BEGIN:VCALENDAR
VERSION:2.0
PRODID:-//ChamberMaster//Event Calendar 2.0//EN
METHOD:PUBLISH
X-PUBLISHED-TTL:P3D
REFRESH-INTERVAL:P3D
CALSCALE:GREGORIAN
BEGIN:VEVENT
DTSTART:20211023T000000Z
DTEND:20211023T020000Z
X-MICROSOFT-CDO-ALLDAYEVENT:FALSE
SUMMARY:Dirty Cello at the Trinity Church
DESCRIPTION:Dirty Cello at the Trinity Church Trinity Church 345 Main Street\, Portland\, CT 06480 $18 tickets in advance\, and $20 at door at: https://bit.ly/dirtycellotrinitychurch Oct 22 8 pm thebuttonwoodtree@gmail.com (860) 347-4957\n\n\n\nCello like you've never heard before! From Italy to Iceland\, and all over the U.S.\, Dirty Cello brings the world a high energy and unique spin on blues and bluegrass. Led by vivacious cross-over cellist\, Rebecca Roudman\, Dirty Cello is cello like you've never heard before. From down home blues with a wailing cello to virtuosic stompin' bluegrass\, Dirty Cello is a band that gets your heart thumping and your toes tapping!\n\n\n\n"Dirty Cello's music is all over the map: funky\, carnival\, romantic\, sexy\, tangled\, electric\, fiercely rhythmic\, and textured\, and only occasionally classical." Oakland Magazine
X-ALT-DESC;FMTTYPE=text/html:Dirty Cello at the Trinity Church Trinity Church 345 Main Street\, Portland\, CT 06480 $18 tickets in advance\, and $20 at door at: https://bit.ly/dirtycellotrinitychurch Oct 22 8 pm thebuttonwoodtree@gmail.com (860) 347-4957<br />\n<br />\nCello like you&rsquo\;ve never heard before! From Italy to Iceland\, and all over the U.S.\, Dirty Cello brings the world a high energy and unique spin on blues and bluegrass. Led by vivacious cross-over cellist\, Rebecca Roudman\, Dirty Cello is cello like you&rsquo\;ve never heard before. From down home blues with a wailing cello to virtuosic stompin&rsquo\; bluegrass\, Dirty Cello is a band that gets your heart thumping and your toes tapping!<br />\n<br />\n&quot\;Dirty Cello&rsquo\;s music is all over the map: funky\, carnival\, romantic\, sexy\, tangled\, electric\, fiercely rhythmic\, and textured\, and only occasionally classical.&quot\; Oakland Magazine
LOCATION:Trinity Church 345 Main Street Portland\, CT 06480
UID:e.1932.22323
SEQUENCE:3
DTSTAMP:20260421T100038Z
URL:https://business.middlesexchamber.com/events/details/dirty-cello-at-the-trinity-church-22323
END:VEVENT

END:VCALENDAR
