BEGIN:VCALENDAR
VERSION:2.0
PRODID:-//ChamberMaster//Event Calendar 2.0//EN
METHOD:PUBLISH
X-PUBLISHED-TTL:P3D
REFRESH-INTERVAL:P3D
CALSCALE:GREGORIAN
BEGIN:VEVENT
DTSTART:20231202T150000Z
DTEND:20231202T170000Z
X-MICROSOFT-CDO-ALLDAYEVENT:FALSE
SUMMARY:Decorate Holiday Cookies with Chelsea Groton Bank
DESCRIPTION:Pop in to decorate cookies with us!\n\n\n\nPerfect for families and little ones.\n\n\n\nRefreshments\, holiday cheer\, and all supplies will be provided.
X-ALT-DESC;FMTTYPE=text/html:<span style="font-size:18px\;"><span style="font-family:arial\;">Pop in to decorate cookies with us!<br />\n<br />\nPerfect for families and little ones.<br />\n<br />\nRefreshments\, holiday cheer\, and all supplies will be provided.</span></span>
LOCATION:Chelsea Groton Bank Westside Branch 444 West Main Street Norwich\, CT
UID:e.1932.28478
SEQUENCE:3
DTSTAMP:20260420T054711Z
URL:https://business.middlesexchamber.com/events/details/decorate-holiday-cookies-with-chelsea-groton-bank-28478
END:VEVENT

END:VCALENDAR
