BEGIN:VCALENDAR
VERSION:2.0
PRODID:-//ChamberMaster//Event Calendar 2.0//EN
METHOD:PUBLISH
X-PUBLISHED-TTL:P3D
REFRESH-INTERVAL:P3D
CALSCALE:GREGORIAN
BEGIN:VEVENT
DTSTART:20170919T133000Z
DTEND:20170919T180000Z
X-MICROSOFT-CDO-ALLDAYEVENT:FALSE
SUMMARY:Dealing with Difficult People & Learning to Communicate Better Training
DESCRIPTION:In this training\, you will learn how to recognize and deal with the most difficult personality types\, how to control your emotions when interacting with these individuals\, and learn communication techniques so you are able to work better together. CE/CEU: This program has been approved by Connecticut Certificate Board & National Association of Social Workers CT Chapter for 4.25 units.
X-ALT-DESC;FMTTYPE=text/html:In this training\, you will learn how to recognize and deal with the most difficult personality types\, how to control your emotions when interacting with these individuals\, and learn communication techniques so you are able to work better together. CE/CEU: This program has been approved by Connecticut Certificate Board &amp\; National Association of Social Workers&mdash\;CT Chapter for 4.25 units.
LOCATION:The Connection 100 Roscommon Drive Suite 203 Middletown\, CT
UID:e.1932.4613
SEQUENCE:3
DTSTAMP:20260424T005351Z
URL:https://business.middlesexchamber.com/events/details/dealing-with-difficult-people-learning-to-communicate-better-training-4613
END:VEVENT

END:VCALENDAR
