BEGIN:VCALENDAR
VERSION:2.0
PRODID:-//ChamberMaster//Event Calendar 2.0//EN
METHOD:PUBLISH
X-PUBLISHED-TTL:P3D
REFRESH-INTERVAL:P3D
CALSCALE:GREGORIAN
BEGIN:VEVENT
DTSTART:20241220T213000Z
DTEND:20241221T000000Z
X-MICROSOFT-CDO-ALLDAYEVENT:FALSE
SUMMARY:Dashing Through Downtown Holiday Vehicle Parade 2024
DESCRIPTION:Parade kicks off at 7:00 p.m. \n\n\n\nIf you'd like to Pre Register Your Vehicle ahead of time\, please do so by clicking on the Register Button to the right. \n\n	Join us for our fifth annual decorated vehicle parade! Decorate your car\, van\, truck\, flatbed\, company vehicle (This is a great FREE way to advertise your business!!!)\, sleigh\, whatever you have! Don't forget\, the more decorations\, the better! Participating vehicles will register and lineup at Middletown High School and will parade through downtown Middletown\, led by Santa\, to view the fabulous decorations on display\n\n \n\n\n	We are asking for a $5 donation to help raise funds for Holiday on Main Street!\n\n \n\n\n	This year\, enjoy a little friendly competition for the most festive vehicles! Mayor Ben Florsheim\, Jingles the Gnome\, and Santa will select their favorite vehicles in the parade! Judging will take place at 6:45 p.m.\n\n \n\n\n	Registration will be from 4:30-6:30 p.m.\n\n \n\n\n	Bring an unwrapped toy to benefit the Middletown Police Department's Toy Drive! \n\n \n\n\n	The parade will take off at 7:00 p.m. SHARP! Don't be late!\n\n \n\n\n	You can also catch the parade as it travels down Main Street! Setup behind your car and get ready to enjoy the beautiful parade!!\n\n \n\n\n	6:00 p.m.   ??   Looking for some 21+ fun?! Join us on our double-decker bus for our 4th Annual Magic of Middletown Pub Crawl which will participate in our Holiday Parade and then will make stops at four local restaurants in downtown Middletown. Enjoy drink specials\, giveaways\, trivia\, an ugly sweater contest\, and more! For more info\, visit: www.holidayonmain.com/pub-crawl/
X-ALT-DESC;FMTTYPE=text/html:<strong>Parade kicks off at 7:00 p.m.&nbsp\;<br />\n<br />\n<u>If you&#39\;d like to Pre Register Your Vehicle ahead of time\, please do so by clicking on the Register Button to the right.&nbsp\;</u></strong>\n<ul>\n	<li>Join us for our fifth&nbsp\;annual decorated vehicle parade! Decorate your car\, van\, truck\, flatbed\, company vehicle (This is a great FREE&nbsp\;way to advertise your business!!!)\,&nbsp\;sleigh\, whatever you have! Don&rsquo\;t forget\, <strong>the more decorations\, the better!</strong> Participating vehicles will register and lineup at&nbsp\;Middletown High School&nbsp\;and will parade through downtown Middletown\, led by Santa\, to view the fabulous decorations on display</li>\n</ul>\n&nbsp\;\n\n<ul>\n	<li>We are asking for a $5 donation to help raise funds for Holiday on Main Street!</li>\n</ul>\n&nbsp\;\n\n<ul>\n	<li>This year\, enjoy a little friendly competition for the&nbsp\;most festive vehicles! Mayor Ben Florsheim\, Jingles the Gnome\, and Santa will select their favorite vehicles in the parade! Judging will take place at 6:45 p.m.</li>\n</ul>\n&nbsp\;\n\n<ul>\n	<li>Registration will be from 4:30-6:30 p.m.</li>\n</ul>\n&nbsp\;\n\n<ul>\n	<li>Bring an unwrapped toy&nbsp\;to benefit the Middletown Police Department&#39\;s Toy Drive!&nbsp\;</li>\n</ul>\n&nbsp\;\n\n<ul>\n	<li>The parade will take off at 7:00 p.m. SHARP! Don&rsquo\;t be late!</li>\n</ul>\n&nbsp\;\n\n<ul>\n	<li>You can also catch the parade as it travels down Main Street! Setup behind your car and get ready to enjoy the beautiful parade!!</li>\n</ul>\n&nbsp\;\n\n<ul>\n	<li>6:00 p.m. &ndash\; ??&nbsp\;&ndash\; Looking for some 21+ fun?! Join us on our double-decker bus for our 4th Annual Magic of Middletown Pub Crawl&nbsp\;which will participate in our Holiday Parade and then will make stops at four local restaurants in downtown Middletown. Enjoy drink specials\, giveaways\, trivia\, an ugly sweater contest\,&nbsp\;and more! For more info\, visit:&nbsp\;www.holidayonmain.com/pub-crawl/</li>\n</ul>\n
LOCATION:Parade Registration/Staging Area: Middletown High School 200 LaRosa Lane\, Middletown
UID:e.1932.30103
SEQUENCE:3
DTSTAMP:20260420T123555Z
URL:https://business.middlesexchamber.com/events/details/dashing-through-downtown-holiday-vehicle-parade-2024-30103
END:VEVENT

END:VCALENDAR
