BEGIN:VCALENDAR
VERSION:2.0
PRODID:-//ChamberMaster//Event Calendar 2.0//EN
METHOD:PUBLISH
X-PUBLISHED-TTL:P3D
REFRESH-INTERVAL:P3D
CALSCALE:GREGORIAN
BEGIN:VEVENT
DTSTART:20170818T180000Z
DTEND:20170917T223000Z
X-MICROSOFT-CDO-ALLDAYEVENT:FALSE
SUMMARY:Darling Grenadine
DESCRIPTION:Meet fun-loving jingle composer Harry. In modern Manhattan\, his charmed life with girlfriend Louise\, brother Paul and beloved Labrador Retriever (also Paul!) sparkles with the fizz of romantic comedies and the whimsy of MGM musicals. But will it all go flat when reality interrupts Harry's tenderly orchestrated fantasia? A rich contemporary score explores the friction between romance and reality\, bitter and sweet\, high and low. Raise a glass to a musical serving something magical\, moving and boldly new.
X-ALT-DESC;FMTTYPE=text/html:Meet fun-loving jingle composer Harry. In modern Manhattan\, his charmed life with girlfriend Louise\, brother Paul and beloved Labrador Retriever (also Paul!) sparkles with the fizz of romantic comedies and the whimsy of MGM musicals. But will it all go flat when reality interrupts Harry&rsquo\;s tenderly orchestrated fantasia? A rich contemporary score explores the friction between romance and reality\, bitter and sweet\, high and low. Raise a glass to a musical serving something magical\, moving and boldly new.
LOCATION:33 N Main Street Chester\, CT 06412
UID:e.1932.4509
SEQUENCE:3
DTSTAMP:20260425T032842Z
URL:https://business.middlesexchamber.com/events/details/darling-grenadine-4509
END:VEVENT

END:VCALENDAR
