BEGIN:VCALENDAR
VERSION:2.0
PRODID:-//ChamberMaster//Event Calendar 2.0//EN
METHOD:PUBLISH
X-PUBLISHED-TTL:P3D
REFRESH-INTERVAL:P3D
CALSCALE:GREGORIAN
BEGIN:VEVENT
DTSTART:20260122T180000Z
DTEND:20260122T190000Z
X-MICROSOFT-CDO-ALLDAYEVENT:FALSE
SUMMARY:Cyber Insurance: Protecting Your Business from Risk – Webinar
DESCRIPTION:Join Kevin Barros\, President of The Computer Company for a 45 60 minute live webinar covering why cyber insurance matters\, what it actually covers\, and the requirements insurers look for when evaluating policies and claims.\n\n\n\nLearn why accurate information and regular policy reviews are critical to protecting your business from cyber risk.\n\n\n\nREGISTER HERE!
X-ALT-DESC;FMTTYPE=text/html:<span style="font-size:18px\;"><span style="font-family:arial\,helvetica\,sans-serif"><strong>Join Kevin Barros\, President of The Computer Company</strong><span style="color:rgb(0\, 0\, 0)">&nbsp\;for a 45&ndash\;60 minute live webinar covering why cyber insurance matters\, what it actually covers\, and the requirements insurers look for when evaluating policies and claims.<br />\n<br />\nLearn why accurate information and regular policy reviews are critical to protecting your business from cyber risk.<br />\n<br />\n<a href="https://computercompany.net/cyber-insurance-protecting-your-business-from-risk-webinar/"><strong>REGISTER HERE!</strong></a></span></span></span>
LOCATION:
UID:e.1932.34721
SEQUENCE:3
DTSTAMP:20260424T181843Z
URL:https://business.middlesexchamber.com/events/details/cyber-insurance-protecting-your-business-from-risk-webinar-34721
END:VEVENT

END:VCALENDAR
