BEGIN:VCALENDAR
VERSION:2.0
PRODID:-//ChamberMaster//Event Calendar 2.0//EN
METHOD:PUBLISH
X-PUBLISHED-TTL:P3D
REFRESH-INTERVAL:P3D
CALSCALE:GREGORIAN
BEGIN:VEVENT
DTSTART:20211207T160000Z
DTEND:20211207T170000Z
X-MICROSOFT-CDO-ALLDAYEVENT:FALSE
SUMMARY:CTSBDC Workshop "Implementing the New CT Paid Leave Act in Your Small Business"
DESCRIPTION:Register Here!\n\n\n\nThe new Connecticut Paid Leave (CTPL) program will go into effect January 1\, 2022. Is your small business prepared?\n\n \n\nThe Connecticut Small Business Development Center along with experts from The Human Resources Consulting Group will present an informational webinar on how to continue running your business as this new law gets implemented.\n\n \n\nThe updated law includes all employers with one or more employees. For many small businesses\, this law can have a significant impact on operations so it is important to have a plan and processes in place to be prepared. Our experts will provide actionable advice small businesses can incorporate.
X-ALT-DESC;FMTTYPE=text/html:<a href="https://ctsbdc.ecenterdirect.com/events/75340663">Register Here!</a><br />\n<br />\nThe new Connecticut Paid Leave (CTPL) program will go into effect January 1\, 2022. Is your small business prepared?<br />\n&nbsp\;<br />\nThe Connecticut Small Business Development Center along with experts from The Human Resources Consulting Group will present an informational webinar on how to continue running your business as this new law gets implemented.<br />\n&nbsp\;<br />\nThe updated law includes all employers with one or more employees. For many small businesses\, this law can have a significant impact on operations so it is important to have a plan and processes in place to be prepared. Our experts will provide actionable advice small businesses can incorporate.<br />\n&nbsp\;
LOCATION:Virtual
UID:e.1932.22314
SEQUENCE:3
DTSTAMP:20260421T071305Z
URL:https://business.middlesexchamber.com/events/details/ctsbdc-workshop-implementing-the-new-ct-paid-leave-act-in-your-small-business-22314
END:VEVENT

END:VCALENDAR
