BEGIN:VCALENDAR
VERSION:2.0
PRODID:-//ChamberMaster//Event Calendar 2.0//EN
METHOD:PUBLISH
X-PUBLISHED-TTL:P3D
REFRESH-INTERVAL:P3D
CALSCALE:GREGORIAN
BEGIN:VEVENT
DTSTART:20210805T160000Z
DTEND:20210805T170000Z
X-MICROSOFT-CDO-ALLDAYEVENT:FALSE
SUMMARY:CTSBDC "Patent Basics"
DESCRIPTION:This workshop will cover the basic facts about patents. We will explore the different types of patents\, including utility\, design\, and plant. We will define the difference and use of both provisional patent applications and non-provisional patent applications.  Further\, we will discuss the process of patent prosecution\, the role of the U.S. patent examiner and what to expect when working with the USPTO.  Information regarding a number of patent prosecution programs and initiatives available to applicants will also be provided.\n\n\n\nRegister    https://ctsbdc.uconn.edu/news_events/protecting-your-intellectual-property/
X-ALT-DESC;FMTTYPE=text/html:This workshop will cover the basic facts about patents. We will explore the different types of patents\, including utility\, design\, and plant. We will define the difference and use of both provisional patent applications and non-provisional patent applications.&nbsp\; Further\, we will discuss the process of patent prosecution\, the role of the U.S. patent examiner and what to expect when working with the USPTO.&nbsp\; Information regarding a number of patent prosecution programs and initiatives available to applicants will also be provided.<br />\n<br />\n<strong><span style="text-decoration:none\;text-underline:none\;"><span style="color:windowtext\;">Register &gt\;&gt\; <a href="https://ctsbdc.uconn.edu/news_events/protecting-your-intellectual-property/">https://ctsbdc.uconn.edu/news_events/protecting-your-intellectual-property/</a></span></span></strong>
LOCATION:
UID:e.1932.22045
SEQUENCE:3
DTSTAMP:20260423T104853Z
URL:https://business.middlesexchamber.com/events/details/ctsbdc-patent-basics-22045
END:VEVENT

END:VCALENDAR
